BEGIN:VCALENDAR
VERSION:2.0
PRODID:-//Corner Pocket Games - ECPv6.15.20//NONSGML v1.0//EN
CALSCALE:GREGORIAN
METHOD:PUBLISH
X-WR-CALNAME:Corner Pocket Games
X-ORIGINAL-URL:https://cornerpocketgames.com
X-WR-CALDESC:Events for Corner Pocket Games
REFRESH-INTERVAL;VALUE=DURATION:PT1H
X-Robots-Tag:noindex
X-PUBLISHED-TTL:PT1H
BEGIN:VTIMEZONE
TZID:America/Winnipeg
BEGIN:DAYLIGHT
TZOFFSETFROM:-0600
TZOFFSETTO:-0500
TZNAME:CDT
DTSTART:20240310T080000
END:DAYLIGHT
BEGIN:STANDARD
TZOFFSETFROM:-0500
TZOFFSETTO:-0600
TZNAME:CST
DTSTART:20241103T070000
END:STANDARD
BEGIN:DAYLIGHT
TZOFFSETFROM:-0600
TZOFFSETTO:-0500
TZNAME:CDT
DTSTART:20250309T080000
END:DAYLIGHT
BEGIN:STANDARD
TZOFFSETFROM:-0500
TZOFFSETTO:-0600
TZNAME:CST
DTSTART:20251102T070000
END:STANDARD
BEGIN:DAYLIGHT
TZOFFSETFROM:-0600
TZOFFSETTO:-0500
TZNAME:CDT
DTSTART:20260308T080000
END:DAYLIGHT
BEGIN:STANDARD
TZOFFSETFROM:-0500
TZOFFSETTO:-0600
TZNAME:CST
DTSTART:20261101T070000
END:STANDARD
END:VTIMEZONE
BEGIN:VEVENT
DTSTART;TZID=America/Winnipeg:20250926T110000
DTEND;TZID=America/Winnipeg:20250926T200000
DTSTAMP:20260423T172819
CREATED:20250905T104159Z
LAST-MODIFIED:20250905T104159Z
UID:6168-1758884400-1758916800@cornerpocketgames.com
SUMMARY:Hours 11 AM - 8 PM
DESCRIPTION:Hours 11 AM – 8 PM
URL:https://cornerpocketgames.com/event/hours-11-am-8-pm-2-2-2/
LOCATION:Corner Pocket Games\, 201 Manitoba Ave\, Selkirk\, Manitona\, R1A 0Y4\, Canada
ATTACH;FMTTYPE=image/png:https://cornerpocketgames.com/wp-content/uploads/2024/09/storefront.png
ORGANIZER;CN="Corner Pocket Games":MAILTO:sales@cornerpocketgames.com
END:VEVENT
BEGIN:VEVENT
DTSTART;TZID=America/Winnipeg:20250925T110000
DTEND;TZID=America/Winnipeg:20250925T200000
DTSTAMP:20260423T172819
CREATED:20250905T103818Z
LAST-MODIFIED:20250905T103818Z
UID:6156-1758798000-1758830400@cornerpocketgames.com
SUMMARY:Hours 11AM - 8PM
DESCRIPTION:Hours 11AM – 8PM
URL:https://cornerpocketgames.com/event/hours-11am-8pm-2-2-2/
LOCATION:Corner Pocket Games\, 201 Manitoba Ave\, Selkirk\, Manitona\, R1A 0Y4\, Canada
ATTACH;FMTTYPE=image/png:https://cornerpocketgames.com/wp-content/uploads/2024/09/storefront.png
ORGANIZER;CN="Corner Pocket Games":MAILTO:sales@cornerpocketgames.com
END:VEVENT
BEGIN:VEVENT
DTSTART;TZID=America/Winnipeg:20250924T110000
DTEND;TZID=America/Winnipeg:20250924T170000
DTSTAMP:20260423T172819
CREATED:20250905T103505Z
LAST-MODIFIED:20250905T103505Z
UID:6144-1758711600-1758733200@cornerpocketgames.com
SUMMARY:HOURS 11AM-5PM
DESCRIPTION:Hours 11AM – 5PM
URL:https://cornerpocketgames.com/event/hours-11am-5pm-2-2-2/
LOCATION:Corner Pocket Games\, 201 Manitoba Ave\, Selkirk\, Manitona\, R1A 0Y4\, Canada
ATTACH;FMTTYPE=image/png:https://cornerpocketgames.com/wp-content/uploads/2024/09/storefront.png
ORGANIZER;CN="Corner Pocket Games":MAILTO:sales@cornerpocketgames.com
END:VEVENT
BEGIN:VEVENT
DTSTART;VALUE=DATE:20250921
DTEND;VALUE=DATE:20250924
DTSTAMP:20260423T172819
CREATED:20250905T102919Z
LAST-MODIFIED:20250905T102919Z
UID:6125-1758412800-1758671999@cornerpocketgames.com
SUMMARY:CLOSED
DESCRIPTION:CLOSED
URL:https://cornerpocketgames.com/event/closed-11-2/
LOCATION:Corner Pocket Games\, 201 Manitoba Ave\, Selkirk\, Manitona\, R1A 0Y4\, Canada
ATTACH;FMTTYPE=image/webp:https://cornerpocketgames.com/wp-content/uploads/2025/07/closed.webp
ORGANIZER;CN="Corner Pocket Games":MAILTO:sales@cornerpocketgames.com
END:VEVENT
BEGIN:VEVENT
DTSTART;TZID=America/Winnipeg:20250920T100000
DTEND;TZID=America/Winnipeg:20250920T160000
DTSTAMP:20260423T172819
CREATED:20250905T104358Z
LAST-MODIFIED:20250905T104358Z
UID:6177-1758362400-1758384000@cornerpocketgames.com
SUMMARY:HOURS 10AM - 4PM
DESCRIPTION:HOURS 10AM – 4PM
URL:https://cornerpocketgames.com/event/hours-10am-4pm-7-2-2/
LOCATION:Corner Pocket Games\, 201 Manitoba Ave\, Selkirk\, Manitona\, R1A 0Y4\, Canada
ATTACH;FMTTYPE=image/png:https://cornerpocketgames.com/wp-content/uploads/2024/09/storefront.png
ORGANIZER;CN="Corner Pocket Games":MAILTO:sales@cornerpocketgames.com
END:VEVENT
BEGIN:VEVENT
DTSTART;VALUE=DATE:20250920
DTEND;VALUE=DATE:20250921
DTSTAMP:20260423T172819
CREATED:20250905T105014Z
LAST-MODIFIED:20250905T105014Z
UID:6193-1758326400-1758412799@cornerpocketgames.com
SUMMARY:SUMMER LEAGUE PLAYOFFS
DESCRIPTION:SUMMER LEAGUE PLAYOFFS
URL:https://cornerpocketgames.com/event/summer-league-playoffs/
LOCATION:Corner Pocket Games\, 201 Manitoba Ave\, Selkirk\, Manitona\, R1A 0Y4\, Canada
ATTACH;FMTTYPE=image/jpeg:https://cornerpocketgames.com/wp-content/uploads/2025/01/pool-tourney.jpg
ORGANIZER;CN="Corner Pocket Games":MAILTO:sales@cornerpocketgames.com
END:VEVENT
BEGIN:VEVENT
DTSTART;TZID=America/Winnipeg:20250919T110000
DTEND;TZID=America/Winnipeg:20250919T200000
DTSTAMP:20260423T172819
CREATED:20250905T104027Z
LAST-MODIFIED:20250905T104027Z
UID:6165-1758279600-1758312000@cornerpocketgames.com
SUMMARY:Hours 11 AM - 8 PM
DESCRIPTION:Hours 11 AM – 8 PM
URL:https://cornerpocketgames.com/event/hours-11-am-8-pm-2-2/
LOCATION:Corner Pocket Games\, 201 Manitoba Ave\, Selkirk\, Manitona\, R1A 0Y4\, Canada
ATTACH;FMTTYPE=image/png:https://cornerpocketgames.com/wp-content/uploads/2024/09/storefront.png
ORGANIZER;CN="Corner Pocket Games":MAILTO:sales@cornerpocketgames.com
END:VEVENT
BEGIN:VEVENT
DTSTART;TZID=America/Winnipeg:20250918T110000
DTEND;TZID=America/Winnipeg:20250918T200000
DTSTAMP:20260423T172819
CREATED:20250905T103703Z
LAST-MODIFIED:20250905T103703Z
UID:6153-1758193200-1758225600@cornerpocketgames.com
SUMMARY:Hours 11AM - 8PM
DESCRIPTION:Hours 11AM – 8PM
URL:https://cornerpocketgames.com/event/hours-11am-8pm-2-2/
LOCATION:Corner Pocket Games\, 201 Manitoba Ave\, Selkirk\, Manitona\, R1A 0Y4\, Canada
ATTACH;FMTTYPE=image/png:https://cornerpocketgames.com/wp-content/uploads/2024/09/storefront.png
ORGANIZER;CN="Corner Pocket Games":MAILTO:sales@cornerpocketgames.com
END:VEVENT
BEGIN:VEVENT
DTSTART;TZID=America/Winnipeg:20250917T110000
DTEND;TZID=America/Winnipeg:20250917T170000
DTSTAMP:20260423T172819
CREATED:20250905T103438Z
LAST-MODIFIED:20250905T103438Z
UID:6141-1758106800-1758128400@cornerpocketgames.com
SUMMARY:HOURS 11AM-5PM
DESCRIPTION:Hours 11AM – 5PM
URL:https://cornerpocketgames.com/event/hours-11am-5pm-2-2/
LOCATION:Corner Pocket Games\, 201 Manitoba Ave\, Selkirk\, Manitona\, R1A 0Y4\, Canada
ATTACH;FMTTYPE=image/png:https://cornerpocketgames.com/wp-content/uploads/2024/09/storefront.png
ORGANIZER;CN="Corner Pocket Games":MAILTO:sales@cornerpocketgames.com
END:VEVENT
BEGIN:VEVENT
DTSTART;VALUE=DATE:20250916
DTEND;VALUE=DATE:20250917
DTSTAMP:20260423T172819
CREATED:20250905T104536Z
LAST-MODIFIED:20250905T105103Z
UID:6183-1757980800-1758067199@cornerpocketgames.com
SUMMARY:CLOSED
DESCRIPTION:CLOSED
URL:https://cornerpocketgames.com/event/closed-12/
LOCATION:Corner Pocket Games\, 201 Manitoba Ave\, Selkirk\, Manitona\, R1A 0Y4\, Canada
ATTACH;FMTTYPE=image/webp:https://cornerpocketgames.com/wp-content/uploads/2025/07/closed.webp
ORGANIZER;CN="Corner Pocket Games":MAILTO:sales@cornerpocketgames.com
END:VEVENT
BEGIN:VEVENT
DTSTART;TZID=America/Winnipeg:20250915T190000
DTEND;TZID=America/Winnipeg:20250915T210000
DTSTAMP:20260423T172819
CREATED:20250905T104752Z
LAST-MODIFIED:20250905T104752Z
UID:6186-1757962800-1757970000@cornerpocketgames.com
SUMMARY:FALL POOL LEAGUE START UP MEETING
DESCRIPTION:FALL POOL LEAGUE START UP MEETING\nAactive Pool: Selkirk Pool League Meeting\nStarts at 7PM\nCaptains of a Selkirk team MUST be present
URL:https://cornerpocketgames.com/event/fall-pool-league-start-up-meeting/
ATTACH;FMTTYPE=image/jpeg:https://cornerpocketgames.com/wp-content/uploads/2025/09/aactivepoollogo.jpg
END:VEVENT
BEGIN:VEVENT
DTSTART;TZID=America/Winnipeg:20250913T100000
DTEND;TZID=America/Winnipeg:20250913T160000
DTSTAMP:20260423T172819
CREATED:20250905T104330Z
LAST-MODIFIED:20250905T104330Z
UID:6174-1757757600-1757779200@cornerpocketgames.com
SUMMARY:HOURS 10AM - 4PM
DESCRIPTION:HOURS 10AM – 4PM
URL:https://cornerpocketgames.com/event/hours-10am-4pm-7-2/
LOCATION:Corner Pocket Games\, 201 Manitoba Ave\, Selkirk\, Manitona\, R1A 0Y4\, Canada
ATTACH;FMTTYPE=image/png:https://cornerpocketgames.com/wp-content/uploads/2024/09/storefront.png
ORGANIZER;CN="Corner Pocket Games":MAILTO:sales@cornerpocketgames.com
END:VEVENT
BEGIN:VEVENT
DTSTART;VALUE=DATE:20250913
DTEND;VALUE=DATE:20250915
DTSTAMP:20260423T172819
CREATED:20250905T104911Z
LAST-MODIFIED:20250905T104911Z
UID:6190-1757721600-1757894399@cornerpocketgames.com
SUMMARY:3 MAN POOL TOURNAMENT
DESCRIPTION:3 MAN POOL TOURNAMENT\nHandicapped based on CompuSport CSR\n2 Day Event
URL:https://cornerpocketgames.com/event/3-man-pool-tournament/
CATEGORIES:Pool Tournament
ATTACH;FMTTYPE=image/jpeg:https://cornerpocketgames.com/wp-content/uploads/2025/01/pool-tourney.jpg
END:VEVENT
BEGIN:VEVENT
DTSTART;TZID=America/Winnipeg:20250912T110000
DTEND;TZID=America/Winnipeg:20250912T200000
DTSTAMP:20260423T172819
CREATED:20250905T103959Z
LAST-MODIFIED:20250905T103959Z
UID:6162-1757674800-1757707200@cornerpocketgames.com
SUMMARY:Hours 11 AM - 8 PM
DESCRIPTION:Hours 11 AM – 8 PM
URL:https://cornerpocketgames.com/event/hours-11-am-8-pm-2/
LOCATION:Corner Pocket Games\, 201 Manitoba Ave\, Selkirk\, Manitona\, R1A 0Y4\, Canada
ATTACH;FMTTYPE=image/png:https://cornerpocketgames.com/wp-content/uploads/2024/09/storefront.png
ORGANIZER;CN="Corner Pocket Games":MAILTO:sales@cornerpocketgames.com
END:VEVENT
BEGIN:VEVENT
DTSTART;TZID=America/Winnipeg:20250911T110000
DTEND;TZID=America/Winnipeg:20250911T200000
DTSTAMP:20260423T172819
CREATED:20250905T103639Z
LAST-MODIFIED:20250905T103639Z
UID:6150-1757588400-1757620800@cornerpocketgames.com
SUMMARY:Hours 11AM - 8PM
DESCRIPTION:Hours 11AM – 8PM
URL:https://cornerpocketgames.com/event/hours-11am-8pm-2/
LOCATION:Corner Pocket Games\, 201 Manitoba Ave\, Selkirk\, Manitona\, R1A 0Y4\, Canada
ATTACH;FMTTYPE=image/png:https://cornerpocketgames.com/wp-content/uploads/2024/09/storefront.png
ORGANIZER;CN="Corner Pocket Games":MAILTO:sales@cornerpocketgames.com
END:VEVENT
BEGIN:VEVENT
DTSTART;TZID=America/Winnipeg:20250910T110000
DTEND;TZID=America/Winnipeg:20250910T170000
DTSTAMP:20260423T172819
CREATED:20250905T103330Z
LAST-MODIFIED:20250905T103417Z
UID:6136-1757502000-1757523600@cornerpocketgames.com
SUMMARY:HOURS 11AM-5PM
DESCRIPTION:Hours 11AM – 5PM
URL:https://cornerpocketgames.com/event/hours-11am-5pm-2/
LOCATION:Corner Pocket Games\, 201 Manitoba Ave\, Selkirk\, Manitona\, R1A 0Y4\, Canada
ATTACH;FMTTYPE=image/png:https://cornerpocketgames.com/wp-content/uploads/2024/09/storefront.png
ORGANIZER;CN="Corner Pocket Games":MAILTO:sales@cornerpocketgames.com
END:VEVENT
BEGIN:VEVENT
DTSTART;VALUE=DATE:20250907
DTEND;VALUE=DATE:20250910
DTSTAMP:20260423T172819
CREATED:20250905T102845Z
LAST-MODIFIED:20250905T102845Z
UID:6122-1757203200-1757462399@cornerpocketgames.com
SUMMARY:CLOSED
DESCRIPTION:CLOSED
URL:https://cornerpocketgames.com/event/closed-11/
LOCATION:Corner Pocket Games\, 201 Manitoba Ave\, Selkirk\, Manitona\, R1A 0Y4\, Canada
ATTACH;FMTTYPE=image/webp:https://cornerpocketgames.com/wp-content/uploads/2025/07/closed.webp
ORGANIZER;CN="Corner Pocket Games":MAILTO:sales@cornerpocketgames.com
END:VEVENT
BEGIN:VEVENT
DTSTART;TZID=America/Winnipeg:20250906T100000
DTEND;TZID=America/Winnipeg:20250906T160000
DTSTAMP:20260423T172819
CREATED:20250905T104305Z
LAST-MODIFIED:20250905T104305Z
UID:6171-1757152800-1757174400@cornerpocketgames.com
SUMMARY:HOURS 10AM - 4PM
DESCRIPTION:HOURS 10AM – 4PM
URL:https://cornerpocketgames.com/event/hours-10am-4pm-7/
LOCATION:Corner Pocket Games\, 201 Manitoba Ave\, Selkirk\, Manitona\, R1A 0Y4\, Canada
ATTACH;FMTTYPE=image/png:https://cornerpocketgames.com/wp-content/uploads/2024/09/storefront.png
ORGANIZER;CN="Corner Pocket Games":MAILTO:sales@cornerpocketgames.com
END:VEVENT
BEGIN:VEVENT
DTSTART;TZID=America/Winnipeg:20250905T110000
DTEND;TZID=America/Winnipeg:20250905T200000
DTSTAMP:20260423T172819
CREATED:20250905T103910Z
LAST-MODIFIED:20250905T103910Z
UID:6159-1757070000-1757102400@cornerpocketgames.com
SUMMARY:Hours 11 AM - 8 PM
DESCRIPTION:Hours 11 AM – 8 PM
URL:https://cornerpocketgames.com/event/hours-11-am-8-pm/
LOCATION:Corner Pocket Games\, 201 Manitoba Ave\, Selkirk\, Manitona\, R1A 0Y4\, Canada
ATTACH;FMTTYPE=image/png:https://cornerpocketgames.com/wp-content/uploads/2024/09/storefront.png
ORGANIZER;CN="Corner Pocket Games":MAILTO:sales@cornerpocketgames.com
END:VEVENT
BEGIN:VEVENT
DTSTART;TZID=America/Winnipeg:20250904T110000
DTEND;TZID=America/Winnipeg:20250904T200000
DTSTAMP:20260423T172819
CREATED:20250905T103613Z
LAST-MODIFIED:20250905T103613Z
UID:6147-1756983600-1757016000@cornerpocketgames.com
SUMMARY:Hours 11AM - 8PM
DESCRIPTION:Hours 11AM – 8PM
URL:https://cornerpocketgames.com/event/hours-11am-8pm/
LOCATION:Corner Pocket Games\, 201 Manitoba Ave\, Selkirk\, Manitona\, R1A 0Y4\, Canada
ATTACH;FMTTYPE=image/png:https://cornerpocketgames.com/wp-content/uploads/2024/09/storefront.png
ORGANIZER;CN="Corner Pocket Games":MAILTO:sales@cornerpocketgames.com
END:VEVENT
BEGIN:VEVENT
DTSTART;TZID=America/Winnipeg:20250903T110000
DTEND;TZID=America/Winnipeg:20250903T170000
DTSTAMP:20260423T172819
CREATED:20250905T103244Z
LAST-MODIFIED:20250905T103244Z
UID:6131-1756897200-1756918800@cornerpocketgames.com
SUMMARY:HOURS 11AM-5PM
DESCRIPTION:Hours 11AM – 5PM
URL:https://cornerpocketgames.com/event/hours-11am-5pm/
LOCATION:Corner Pocket Games\, 201 Manitoba Ave\, Selkirk\, Manitona\, R1A 0Y4\, Canada
ATTACH;FMTTYPE=image/png:https://cornerpocketgames.com/wp-content/uploads/2024/09/storefront.png
ORGANIZER;CN="Corner Pocket Games":MAILTO:sales@cornerpocketgames.com
END:VEVENT
BEGIN:VEVENT
DTSTART;VALUE=DATE:20250901
DTEND;VALUE=DATE:20250903
DTSTAMP:20260423T172819
CREATED:20250905T102751Z
LAST-MODIFIED:20250905T102751Z
UID:6119-1756684800-1756857599@cornerpocketgames.com
SUMMARY:CLOSED
DESCRIPTION:CLOSED
URL:https://cornerpocketgames.com/event/closed-10/
LOCATION:Corner Pocket Games\, 201 Manitoba Ave\, Selkirk\, Manitona\, R1A 0Y4\, Canada
ATTACH;FMTTYPE=image/webp:https://cornerpocketgames.com/wp-content/uploads/2025/07/closed.webp
ORGANIZER;CN="Corner Pocket Games":MAILTO:sales@cornerpocketgames.com
END:VEVENT
BEGIN:VEVENT
DTSTART;VALUE=DATE:20250831
DTEND;VALUE=DATE:20250901
DTSTAMP:20260423T172819
CREATED:20250717T120520Z
LAST-MODIFIED:20250717T120520Z
UID:6050-1756598400-1756684799@cornerpocketgames.com
SUMMARY:CLOSED
DESCRIPTION:
URL:https://cornerpocketgames.com/event/closed20250725-4-2-2-2-2-2/
ATTACH;FMTTYPE=image/webp:https://cornerpocketgames.com/wp-content/uploads/2025/07/closed.webp
END:VEVENT
BEGIN:VEVENT
DTSTART;VALUE=DATE:20250830
DTEND;VALUE=DATE:20250831
DTSTAMP:20260423T172819
CREATED:20250717T122108Z
LAST-MODIFIED:20250717T122108Z
UID:6115-1756512000-1756598399@cornerpocketgames.com
SUMMARY:$10/Hour Pool
DESCRIPTION:$10/Hour Pool
URL:https://cornerpocketgames.com/event/10-hour-pool-2-2-2-2-2-2-2-2/
ATTACH;FMTTYPE=image/jpeg:https://cornerpocketgames.com/wp-content/uploads/2025/01/pool-tourney.jpg
END:VEVENT
BEGIN:VEVENT
DTSTART;TZID=America/Winnipeg:20250829T140000
DTEND;TZID=America/Winnipeg:20250829T170000
DTSTAMP:20260423T172819
CREATED:20250717T121448Z
LAST-MODIFIED:20250717T121448Z
UID:6089-1756476000-1756486800@cornerpocketgames.com
SUMMARY:Happy Hour 2pm-5pm
DESCRIPTION:Happy Hour\n2PM – 5PM
URL:https://cornerpocketgames.com/event/happy-hour-2pm-5pm-2-2-3-6-5-2-2-2-2-2-2-2-2-2-2-2-2/
ATTACH;FMTTYPE=image/jpeg:https://cornerpocketgames.com/wp-content/uploads/2025/07/happy-hour-beer-graphic.jpg
END:VEVENT
BEGIN:VEVENT
DTSTART;TZID=America/Winnipeg:20250828T140000
DTEND;TZID=America/Winnipeg:20250828T170000
DTSTAMP:20260423T172819
CREATED:20250717T121421Z
LAST-MODIFIED:20250717T121421Z
UID:6086-1756389600-1756400400@cornerpocketgames.com
SUMMARY:Happy Hour 2pm-5pm
DESCRIPTION:Happy Hour\n2PM – 5PM
URL:https://cornerpocketgames.com/event/happy-hour-2pm-5pm-2-2-3-6-5-2-2-2-2-2-2-2-2-2-2-2/
ATTACH;FMTTYPE=image/jpeg:https://cornerpocketgames.com/wp-content/uploads/2025/07/happy-hour-beer-graphic.jpg
END:VEVENT
BEGIN:VEVENT
DTSTART;TZID=America/Winnipeg:20250827T140000
DTEND;TZID=America/Winnipeg:20250827T170000
DTSTAMP:20260423T172819
CREATED:20250717T121405Z
LAST-MODIFIED:20250717T121405Z
UID:6083-1756303200-1756314000@cornerpocketgames.com
SUMMARY:Happy Hour 2pm-5pm
DESCRIPTION:Happy Hour\n2PM – 5PM
URL:https://cornerpocketgames.com/event/happy-hour-2pm-5pm-2-2-3-6-5-2-2-2-2-2-2-2-2-2-2/
ATTACH;FMTTYPE=image/jpeg:https://cornerpocketgames.com/wp-content/uploads/2025/07/happy-hour-beer-graphic.jpg
END:VEVENT
BEGIN:VEVENT
DTSTART;VALUE=DATE:20250827
DTEND;VALUE=DATE:20250828
DTSTAMP:20260423T172819
CREATED:20250717T121816Z
LAST-MODIFIED:20250717T121816Z
UID:6101-1756252800-1756339199@cornerpocketgames.com
SUMMARY:Play Games All Day $5/Person
DESCRIPTION:Play games all day\n$5.00 / Person
URL:https://cornerpocketgames.com/event/play-games-all-day-5-person-2-2-2-2-2-2-2-2/
LOCATION:Corner Pocket Games\, 201 Manitoba Ave\, Selkirk\, Manitona\, R1A 0Y4\, Canada
ATTACH;FMTTYPE=image/jpeg:https://cornerpocketgames.com/wp-content/uploads/2024/09/board-games.jpg
ORGANIZER;CN="Corner Pocket Games":MAILTO:sales@cornerpocketgames.com
END:VEVENT
BEGIN:VEVENT
DTSTART;VALUE=DATE:20250824
DTEND;VALUE=DATE:20250827
DTSTAMP:20260423T172819
CREATED:20250717T120436Z
LAST-MODIFIED:20250717T120436Z
UID:6047-1755993600-1756252799@cornerpocketgames.com
SUMMARY:CLOSED
DESCRIPTION:
URL:https://cornerpocketgames.com/event/closed20250725-4-2-2-2-2/
ATTACH;FMTTYPE=image/webp:https://cornerpocketgames.com/wp-content/uploads/2025/07/closed.webp
END:VEVENT
BEGIN:VEVENT
DTSTART;VALUE=DATE:20250823
DTEND;VALUE=DATE:20250824
DTSTAMP:20260423T172819
CREATED:20250717T122051Z
LAST-MODIFIED:20250717T122051Z
UID:6112-1755907200-1755993599@cornerpocketgames.com
SUMMARY:$10/Hour Pool
DESCRIPTION:$10/Hour Pool
URL:https://cornerpocketgames.com/event/10-hour-pool-2-2-2-2-2-2-2/
ATTACH;FMTTYPE=image/jpeg:https://cornerpocketgames.com/wp-content/uploads/2025/01/pool-tourney.jpg
END:VEVENT
END:VCALENDAR