BEGIN:VCALENDAR
VERSION:2.0
PRODID:-//Corner Pocket Games - ECPv6.15.20//NONSGML v1.0//EN
CALSCALE:GREGORIAN
METHOD:PUBLISH
X-ORIGINAL-URL:https://cornerpocketgames.com
X-WR-CALDESC:Events for Corner Pocket Games
REFRESH-INTERVAL;VALUE=DURATION:PT1H
X-Robots-Tag:noindex
X-PUBLISHED-TTL:PT1H
BEGIN:VTIMEZONE
TZID:America/Winnipeg
BEGIN:DAYLIGHT
TZOFFSETFROM:-0600
TZOFFSETTO:-0500
TZNAME:CDT
DTSTART:20240310T080000
END:DAYLIGHT
BEGIN:STANDARD
TZOFFSETFROM:-0500
TZOFFSETTO:-0600
TZNAME:CST
DTSTART:20241103T070000
END:STANDARD
BEGIN:DAYLIGHT
TZOFFSETFROM:-0600
TZOFFSETTO:-0500
TZNAME:CDT
DTSTART:20250309T080000
END:DAYLIGHT
BEGIN:STANDARD
TZOFFSETFROM:-0500
TZOFFSETTO:-0600
TZNAME:CST
DTSTART:20251102T070000
END:STANDARD
BEGIN:DAYLIGHT
TZOFFSETFROM:-0600
TZOFFSETTO:-0500
TZNAME:CDT
DTSTART:20260308T080000
END:DAYLIGHT
BEGIN:STANDARD
TZOFFSETFROM:-0500
TZOFFSETTO:-0600
TZNAME:CST
DTSTART:20261101T070000
END:STANDARD
END:VTIMEZONE
BEGIN:VEVENT
DTSTART;VALUE=DATE:20251108
DTEND;VALUE=DATE:20251109
DTSTAMP:20260423T103017
CREATED:20251116T123601Z
LAST-MODIFIED:20251116T123601Z
UID:6429-1762560000-1762646399@cornerpocketgames.com
SUMMARY:HOURS 10AM-4PM
DESCRIPTION:
URL:https://cornerpocketgames.com/event/hours-10am-4pm-10/
ATTACH;FMTTYPE=image/jpeg:https://cornerpocketgames.com/wp-content/uploads/2025/09/open.jpg
END:VEVENT
BEGIN:VEVENT
DTSTART;VALUE=DATE:20251107
DTEND;VALUE=DATE:20251108
DTSTAMP:20260423T103017
CREATED:20251116T123342Z
LAST-MODIFIED:20251116T123342Z
UID:6414-1762473600-1762559999@cornerpocketgames.com
SUMMARY:HOURS 10AM-5PM
DESCRIPTION:
URL:https://cornerpocketgames.com/event/hours-10am-5pm-7/
ATTACH;FMTTYPE=image/jpeg:https://cornerpocketgames.com/wp-content/uploads/2025/09/open.jpg
END:VEVENT
BEGIN:VEVENT
DTSTART;TZID=America/Winnipeg:20251106T180000
DTEND;TZID=America/Winnipeg:20251106T220000
DTSTAMP:20260423T103017
CREATED:20251116T122731Z
LAST-MODIFIED:20251116T122731Z
UID:6393-1762452000-1762466400@cornerpocketgames.com
SUMMARY:POOL LEAGUE
DESCRIPTION:
URL:https://cornerpocketgames.com/event/pool-league/
ATTACH;FMTTYPE=image/jpeg:https://cornerpocketgames.com/wp-content/uploads/2025/01/pool-tourney.jpg
END:VEVENT
BEGIN:VEVENT
DTSTART;VALUE=DATE:20251106
DTEND;VALUE=DATE:20251107
DTSTAMP:20260423T103017
CREATED:20251116T122650Z
LAST-MODIFIED:20251116T122650Z
UID:6390-1762387200-1762473599@cornerpocketgames.com
SUMMARY:HOURS 11AM-9PM
DESCRIPTION:
URL:https://cornerpocketgames.com/event/hours-11am-9pm/
ATTACH;FMTTYPE=image/jpeg:https://cornerpocketgames.com/wp-content/uploads/2025/09/open.jpg
END:VEVENT
BEGIN:VEVENT
DTSTART;VALUE=DATE:20251105
DTEND;VALUE=DATE:20251106
DTSTAMP:20260423T103017
CREATED:20251116T122440Z
LAST-MODIFIED:20251116T122440Z
UID:6378-1762300800-1762387199@cornerpocketgames.com
SUMMARY:HOURS 10AM-5PM
DESCRIPTION:
URL:https://cornerpocketgames.com/event/hours-10am-5pm-3/
ATTACH;FMTTYPE=image/jpeg:https://cornerpocketgames.com/wp-content/uploads/2025/09/open.jpg
END:VEVENT
BEGIN:VEVENT
DTSTART;VALUE=DATE:20251102
DTEND;VALUE=DATE:20251105
DTSTAMP:20260423T103017
CREATED:20251116T122110Z
LAST-MODIFIED:20251116T122110Z
UID:6363-1762041600-1762300799@cornerpocketgames.com
SUMMARY:CLOSED
DESCRIPTION:
URL:https://cornerpocketgames.com/event/closed-14/
LOCATION:Corner Pocket Games\, 201 Manitoba Ave\, Selkirk\, Manitona\, R1A 0Y4\, Canada
ATTACH;FMTTYPE=image/webp:https://cornerpocketgames.com/wp-content/uploads/2025/07/closed.webp
END:VEVENT
BEGIN:VEVENT
DTSTART;VALUE=DATE:20251101
DTEND;VALUE=DATE:20251102
DTSTAMP:20260423T103017
CREATED:20251116T123528Z
LAST-MODIFIED:20251116T123528Z
UID:6426-1761955200-1762041599@cornerpocketgames.com
SUMMARY:HOURS 10AM-4PM
DESCRIPTION:
URL:https://cornerpocketgames.com/event/hours-10am-4pm-9/
END:VEVENT
BEGIN:VEVENT
DTSTART;TZID=America/Winnipeg:20251031T120000
DTEND;TZID=America/Winnipeg:20251031T220000
DTSTAMP:20260423T103017
CREATED:20250928T135349Z
LAST-MODIFIED:20250928T135403Z
UID:6320-1761912000-1761948000@cornerpocketgames.com
SUMMARY:HOURS: 12PM-10PM
DESCRIPTION:HOURS: 12PM-10PM
URL:https://cornerpocketgames.com/event/hours-12pm-10pm-3-2-2-2-2/
LOCATION:Corner Pocket Games\, 201 Manitoba Ave\, Selkirk\, Manitona\, R1A 0Y4\, Canada
ATTACH;FMTTYPE=image/jpeg:https://cornerpocketgames.com/wp-content/uploads/2025/09/open.jpg
ORGANIZER;CN="Corner Pocket Games":MAILTO:sales@cornerpocketgames.com
END:VEVENT
BEGIN:VEVENT
DTSTART;VALUE=DATE:20251031
DTEND;VALUE=DATE:20251101
DTSTAMP:20260423T103017
CREATED:20250928T140111Z
LAST-MODIFIED:20250928T140111Z
UID:6340-1761868800-1761955199@cornerpocketgames.com
SUMMARY:$10/Hr Pool All Day
DESCRIPTION:Pool Rate $10/Hour all day
URL:https://cornerpocketgames.com/event/10-hr-pool-all-day-2-2-2-2/
LOCATION:Corner Pocket Games\, 201 Manitoba Ave\, Selkirk\, Manitona\, R1A 0Y4\, Canada
ATTACH;FMTTYPE=image/jpeg:https://cornerpocketgames.com/wp-content/uploads/2025/01/pool-tourney.jpg
ORGANIZER;CN="Corner Pocket Games":MAILTO:sales@cornerpocketgames.com
END:VEVENT
BEGIN:VEVENT
DTSTART;TZID=America/Winnipeg:20251030T180000
DTEND;TZID=America/Winnipeg:20251030T220000
DTSTAMP:20260423T103017
CREATED:20250928T131300Z
LAST-MODIFIED:20250928T131300Z
UID:6276-1761847200-1761861600@cornerpocketgames.com
SUMMARY:Pool League 6P-10P
DESCRIPTION:Pool League 6P-10P
URL:https://cornerpocketgames.com/event/pool-league-6p-10p-2-2-2-2/
LOCATION:Corner Pocket Games\, 201 Manitoba Ave\, Selkirk\, Manitona\, R1A 0Y4\, Canada
ATTACH;FMTTYPE=image/jpeg:https://cornerpocketgames.com/wp-content/uploads/2025/01/pool-tourney.jpg
END:VEVENT
BEGIN:VEVENT
DTSTART;TZID=America/Winnipeg:20251030T120000
DTEND;TZID=America/Winnipeg:20251030T220000
DTSTAMP:20260423T103017
CREATED:20250928T130249Z
LAST-MODIFIED:20250928T130249Z
UID:6253-1761825600-1761861600@cornerpocketgames.com
SUMMARY:Hours: 12PM-10PM
DESCRIPTION:Hours: 12PM-10PM
URL:https://cornerpocketgames.com/event/hours-12pm-10pm-2-2-2/
ATTACH;FMTTYPE=image/jpeg:https://cornerpocketgames.com/wp-content/uploads/2025/09/open.jpg
END:VEVENT
BEGIN:VEVENT
DTSTART;TZID=America/Winnipeg:20251029T100000
DTEND;TZID=America/Winnipeg:20251029T170000
DTSTAMP:20260423T103017
CREATED:20250928T124931Z
LAST-MODIFIED:20250928T124931Z
UID:6230-1761732000-1761757200@cornerpocketgames.com
SUMMARY:Hours: 10AM-5PM
DESCRIPTION:Hours: 10AM-5PM
URL:https://cornerpocketgames.com/event/hours-10am-5pm-2-2-2-2/
LOCATION:Corner Pocket Games\, 201 Manitoba Ave\, Selkirk\, Manitona\, R1A 0Y4\, Canada
ATTACH;FMTTYPE=image/jpeg:https://cornerpocketgames.com/wp-content/uploads/2025/09/open.jpg
END:VEVENT
BEGIN:VEVENT
DTSTART;VALUE=DATE:20251026
DTEND;VALUE=DATE:20251029
DTSTAMP:20260423T103017
CREATED:20250928T130924Z
LAST-MODIFIED:20250928T130924Z
UID:6267-1761436800-1761695999@cornerpocketgames.com
SUMMARY:CLOSED
DESCRIPTION:CLOSED
URL:https://cornerpocketgames.com/event/closed-11-2-2-2-2-2/
LOCATION:Corner Pocket Games\, 201 Manitoba Ave\, Selkirk\, Manitona\, R1A 0Y4\, Canada
ATTACH;FMTTYPE=image/webp:https://cornerpocketgames.com/wp-content/uploads/2025/07/closed.webp
ORGANIZER;CN="Corner Pocket Games":MAILTO:sales@cornerpocketgames.com
END:VEVENT
BEGIN:VEVENT
DTSTART;TZID=America/Winnipeg:20251025T080000
DTEND;TZID=America/Winnipeg:20251025T160000
DTSTAMP:20260423T103017
CREATED:20250928T134422Z
LAST-MODIFIED:20250928T134422Z
UID:6301-1761379200-1761408000@cornerpocketgames.com
SUMMARY:HOURS: 10AM-4PM
DESCRIPTION:HOURS: 10AM-4PM
URL:https://cornerpocketgames.com/event/hours-10am-4pm-8-2-2-2/
LOCATION:Corner Pocket Games\, 201 Manitoba Ave\, Selkirk\, Manitona\, R1A 0Y4\, Canada
ATTACH;FMTTYPE=image/jpeg:https://cornerpocketgames.com/wp-content/uploads/2025/09/open.jpg
ORGANIZER;CN="Corner Pocket Games":MAILTO:sales@cornerpocketgames.com
END:VEVENT
BEGIN:VEVENT
DTSTART;TZID=America/Winnipeg:20251024T120000
DTEND;TZID=America/Winnipeg:20251024T220000
DTSTAMP:20260423T103017
CREATED:20250928T135303Z
LAST-MODIFIED:20250928T135303Z
UID:6317-1761307200-1761343200@cornerpocketgames.com
SUMMARY:HOURS: 12PM-10PM
DESCRIPTION:HOURS: 12PM-10PM
URL:https://cornerpocketgames.com/event/hours-12pm-10pm-3-2-2-2/
LOCATION:Corner Pocket Games\, 201 Manitoba Ave\, Selkirk\, Manitona\, R1A 0Y4\, Canada
ATTACH;FMTTYPE=image/jpeg:https://cornerpocketgames.com/wp-content/uploads/2025/09/open.jpg
ORGANIZER;CN="Corner Pocket Games":MAILTO:sales@cornerpocketgames.com
END:VEVENT
BEGIN:VEVENT
DTSTART;VALUE=DATE:20251024
DTEND;VALUE=DATE:20251027
DTSTAMP:20260423T103017
CREATED:20250928T130432Z
LAST-MODIFIED:20250928T130432Z
UID:6256-1761264000-1761523199@cornerpocketgames.com
SUMMARY:3 Man Pool Tournament
DESCRIPTION:3 Man Pool Tournament
URL:https://cornerpocketgames.com/event/3-man-pool-tournament-2/
ATTACH;FMTTYPE=image/jpeg:https://cornerpocketgames.com/wp-content/uploads/2025/01/pool-tourney.jpg
END:VEVENT
BEGIN:VEVENT
DTSTART;VALUE=DATE:20251024
DTEND;VALUE=DATE:20251025
DTSTAMP:20260423T103017
CREATED:20250928T140016Z
LAST-MODIFIED:20250928T140016Z
UID:6337-1761264000-1761350399@cornerpocketgames.com
SUMMARY:$10/Hr Pool All Day
DESCRIPTION:Pool Rate $10/Hour all day
URL:https://cornerpocketgames.com/event/10-hr-pool-all-day-2-2-2/
LOCATION:Corner Pocket Games\, 201 Manitoba Ave\, Selkirk\, Manitona\, R1A 0Y4\, Canada
ATTACH;FMTTYPE=image/jpeg:https://cornerpocketgames.com/wp-content/uploads/2025/01/pool-tourney.jpg
ORGANIZER;CN="Corner Pocket Games":MAILTO:sales@cornerpocketgames.com
END:VEVENT
BEGIN:VEVENT
DTSTART;TZID=America/Winnipeg:20251023T180000
DTEND;TZID=America/Winnipeg:20251023T220000
DTSTAMP:20260423T103017
CREATED:20250928T131212Z
LAST-MODIFIED:20250928T131212Z
UID:6273-1761242400-1761256800@cornerpocketgames.com
SUMMARY:Pool League 6P-10P
DESCRIPTION:Pool League 6P-10P
URL:https://cornerpocketgames.com/event/pool-league-6p-10p-2-2-2/
LOCATION:Corner Pocket Games\, 201 Manitoba Ave\, Selkirk\, Manitona\, R1A 0Y4\, Canada
ATTACH;FMTTYPE=image/jpeg:https://cornerpocketgames.com/wp-content/uploads/2025/01/pool-tourney.jpg
END:VEVENT
BEGIN:VEVENT
DTSTART;TZID=America/Winnipeg:20251023T120000
DTEND;TZID=America/Winnipeg:20251023T220000
DTSTAMP:20260423T103017
CREATED:20250928T130131Z
LAST-MODIFIED:20250928T130201Z
UID:6250-1761220800-1761256800@cornerpocketgames.com
SUMMARY:Hours: 12PM-10PM
DESCRIPTION:Hours: 12PM-10PM
URL:https://cornerpocketgames.com/event/hours-12pm-10pm-2-2/
ATTACH;FMTTYPE=image/jpeg:https://cornerpocketgames.com/wp-content/uploads/2025/09/open.jpg
END:VEVENT
BEGIN:VEVENT
DTSTART;TZID=America/Winnipeg:20251022T100000
DTEND;TZID=America/Winnipeg:20251022T170000
DTSTAMP:20260423T103017
CREATED:20250928T124851Z
LAST-MODIFIED:20250928T124851Z
UID:6227-1761127200-1761152400@cornerpocketgames.com
SUMMARY:Hours: 10AM-5PM
DESCRIPTION:Hours: 10AM-5PM
URL:https://cornerpocketgames.com/event/hours-10am-5pm-2-2-2/
LOCATION:Corner Pocket Games\, 201 Manitoba Ave\, Selkirk\, Manitona\, R1A 0Y4\, Canada
ATTACH;FMTTYPE=image/jpeg:https://cornerpocketgames.com/wp-content/uploads/2025/09/open.jpg
END:VEVENT
BEGIN:VEVENT
DTSTART;VALUE=DATE:20251019
DTEND;VALUE=DATE:20251022
DTSTAMP:20260423T103017
CREATED:20250928T130822Z
LAST-MODIFIED:20250928T130822Z
UID:6264-1760832000-1761091199@cornerpocketgames.com
SUMMARY:CLOSED
DESCRIPTION:CLOSED
URL:https://cornerpocketgames.com/event/closed-11-2-2-2-2/
LOCATION:Corner Pocket Games\, 201 Manitoba Ave\, Selkirk\, Manitona\, R1A 0Y4\, Canada
ATTACH;FMTTYPE=image/webp:https://cornerpocketgames.com/wp-content/uploads/2025/07/closed.webp
ORGANIZER;CN="Corner Pocket Games":MAILTO:sales@cornerpocketgames.com
END:VEVENT
BEGIN:VEVENT
DTSTART;VALUE=DATE:20251019
DTEND;VALUE=DATE:20251020
DTSTAMP:20260423T103017
CREATED:20250928T133759Z
LAST-MODIFIED:20250928T133759Z
UID:6289-1760832000-1760918399@cornerpocketgames.com
SUMMARY:EVENT BOOKINGS AVAILABLE
DESCRIPTION:EVENT BOOKINGS AVAILABLE
URL:https://cornerpocketgames.com/event/event-bookings-available-2-2/
ATTACH;FMTTYPE=image/jpeg:https://cornerpocketgames.com/wp-content/uploads/2025/09/1000009630-scaled.jpg
END:VEVENT
BEGIN:VEVENT
DTSTART;TZID=America/Winnipeg:20251018T080000
DTEND;TZID=America/Winnipeg:20251018T160000
DTSTAMP:20260423T103017
CREATED:20250928T134252Z
LAST-MODIFIED:20250928T134252Z
UID:6298-1760774400-1760803200@cornerpocketgames.com
SUMMARY:HOURS: 10AM-4PM
DESCRIPTION:HOURS: 10AM-4PM
URL:https://cornerpocketgames.com/event/hours-10am-4pm-8-2-2/
LOCATION:Corner Pocket Games\, 201 Manitoba Ave\, Selkirk\, Manitona\, R1A 0Y4\, Canada
ATTACH;FMTTYPE=image/jpeg:https://cornerpocketgames.com/wp-content/uploads/2025/09/open.jpg
ORGANIZER;CN="Corner Pocket Games":MAILTO:sales@cornerpocketgames.com
END:VEVENT
BEGIN:VEVENT
DTSTART;TZID=America/Winnipeg:20251017T120000
DTEND;TZID=America/Winnipeg:20251017T220000
DTSTAMP:20260423T103017
CREATED:20250928T135204Z
LAST-MODIFIED:20250928T135459Z
UID:6314-1760702400-1760738400@cornerpocketgames.com
SUMMARY:HOURS: 12PM-10PM
DESCRIPTION:HOURS: 12PM-10PM
URL:https://cornerpocketgames.com/event/hours-12pm-10pm-3-2-2/
LOCATION:Corner Pocket Games\, 201 Manitoba Ave\, Selkirk\, Manitona\, R1A 0Y4\, Canada
ATTACH;FMTTYPE=image/jpeg:https://cornerpocketgames.com/wp-content/uploads/2025/09/open.jpg
ORGANIZER;CN="Corner Pocket Games":MAILTO:sales@cornerpocketgames.com
END:VEVENT
BEGIN:VEVENT
DTSTART;VALUE=DATE:20251017
DTEND;VALUE=DATE:20251018
DTSTAMP:20260423T103017
CREATED:20250928T135926Z
LAST-MODIFIED:20250928T135926Z
UID:6334-1760659200-1760745599@cornerpocketgames.com
SUMMARY:$10/Hr Pool All Day
DESCRIPTION:Pool Rate $10/Hour all day
URL:https://cornerpocketgames.com/event/10-hr-pool-all-day-2-2/
LOCATION:Corner Pocket Games\, 201 Manitoba Ave\, Selkirk\, Manitona\, R1A 0Y4\, Canada
ATTACH;FMTTYPE=image/jpeg:https://cornerpocketgames.com/wp-content/uploads/2025/01/pool-tourney.jpg
ORGANIZER;CN="Corner Pocket Games":MAILTO:sales@cornerpocketgames.com
END:VEVENT
BEGIN:VEVENT
DTSTART;TZID=America/Winnipeg:20251016T180000
DTEND;TZID=America/Winnipeg:20251016T220000
DTSTAMP:20260423T103017
CREATED:20250928T131109Z
LAST-MODIFIED:20250928T131109Z
UID:6270-1760637600-1760652000@cornerpocketgames.com
SUMMARY:Pool League 6P-10P
DESCRIPTION:Pool League 6P-10P
URL:https://cornerpocketgames.com/event/pool-league-6p-10p-2-2/
LOCATION:Corner Pocket Games\, 201 Manitoba Ave\, Selkirk\, Manitona\, R1A 0Y4\, Canada
ATTACH;FMTTYPE=image/jpeg:https://cornerpocketgames.com/wp-content/uploads/2025/01/pool-tourney.jpg
END:VEVENT
BEGIN:VEVENT
DTSTART;TZID=America/Winnipeg:20251016T120000
DTEND;TZID=America/Winnipeg:20251016T220000
DTSTAMP:20260423T103017
CREATED:20250928T125850Z
LAST-MODIFIED:20250928T130028Z
UID:6247-1760616000-1760652000@cornerpocketgames.com
SUMMARY:Hours: 12PM-10PM
DESCRIPTION:Hours: 12PM-10PM
URL:https://cornerpocketgames.com/event/hours-12pm-10pm-2/
ATTACH;FMTTYPE=image/jpeg:https://cornerpocketgames.com/wp-content/uploads/2025/09/open.jpg
END:VEVENT
BEGIN:VEVENT
DTSTART;TZID=America/Winnipeg:20251015T100000
DTEND;TZID=America/Winnipeg:20251015T170000
DTSTAMP:20260423T103017
CREATED:20250928T124808Z
LAST-MODIFIED:20250928T124808Z
UID:6224-1760522400-1760547600@cornerpocketgames.com
SUMMARY:Hours: 10AM-5PM
DESCRIPTION:Hours: 10AM-5PM
URL:https://cornerpocketgames.com/event/hours-10am-5pm-2-2/
LOCATION:Corner Pocket Games\, 201 Manitoba Ave\, Selkirk\, Manitona\, R1A 0Y4\, Canada
ATTACH;FMTTYPE=image/jpeg:https://cornerpocketgames.com/wp-content/uploads/2025/09/open.jpg
END:VEVENT
BEGIN:VEVENT
DTSTART;VALUE=DATE:20251012
DTEND;VALUE=DATE:20251015
DTSTAMP:20260423T103017
CREATED:20250928T130716Z
LAST-MODIFIED:20250928T130716Z
UID:6261-1760227200-1760486399@cornerpocketgames.com
SUMMARY:CLOSED
DESCRIPTION:CLOSED
URL:https://cornerpocketgames.com/event/closed-11-2-2-2/
LOCATION:Corner Pocket Games\, 201 Manitoba Ave\, Selkirk\, Manitona\, R1A 0Y4\, Canada
ATTACH;FMTTYPE=image/webp:https://cornerpocketgames.com/wp-content/uploads/2025/07/closed.webp
ORGANIZER;CN="Corner Pocket Games":MAILTO:sales@cornerpocketgames.com
END:VEVENT
BEGIN:VEVENT
DTSTART;VALUE=DATE:20251012
DTEND;VALUE=DATE:20251013
DTSTAMP:20260423T103017
CREATED:20250928T133154Z
LAST-MODIFIED:20250928T133207Z
UID:6285-1760227200-1760313599@cornerpocketgames.com
SUMMARY:EVENT BOOKINGS AVAILABLE
DESCRIPTION:EVENT BOOKINGS AVAILABLE
URL:https://cornerpocketgames.com/event/event-bookings-available-2/
ATTACH;FMTTYPE=image/jpeg:https://cornerpocketgames.com/wp-content/uploads/2025/09/1000009630-scaled.jpg
END:VEVENT
END:VCALENDAR