BEGIN:VCALENDAR
VERSION:2.0
PRODID:-//Corner Pocket Games - ECPv6.15.20//NONSGML v1.0//EN
CALSCALE:GREGORIAN
METHOD:PUBLISH
X-WR-CALNAME:Corner Pocket Games
X-ORIGINAL-URL:https://cornerpocketgames.com
X-WR-CALDESC:Events for Corner Pocket Games
REFRESH-INTERVAL;VALUE=DURATION:PT1H
X-Robots-Tag:noindex
X-PUBLISHED-TTL:PT1H
BEGIN:VTIMEZONE
TZID:America/Winnipeg
BEGIN:DAYLIGHT
TZOFFSETFROM:-0600
TZOFFSETTO:-0500
TZNAME:CDT
DTSTART:20240310T080000
END:DAYLIGHT
BEGIN:STANDARD
TZOFFSETFROM:-0500
TZOFFSETTO:-0600
TZNAME:CST
DTSTART:20241103T070000
END:STANDARD
BEGIN:DAYLIGHT
TZOFFSETFROM:-0600
TZOFFSETTO:-0500
TZNAME:CDT
DTSTART:20250309T080000
END:DAYLIGHT
BEGIN:STANDARD
TZOFFSETFROM:-0500
TZOFFSETTO:-0600
TZNAME:CST
DTSTART:20251102T070000
END:STANDARD
BEGIN:DAYLIGHT
TZOFFSETFROM:-0600
TZOFFSETTO:-0500
TZNAME:CDT
DTSTART:20260308T080000
END:DAYLIGHT
BEGIN:STANDARD
TZOFFSETFROM:-0500
TZOFFSETTO:-0600
TZNAME:CST
DTSTART:20261101T070000
END:STANDARD
END:VTIMEZONE
BEGIN:VEVENT
DTSTART;VALUE=DATE:20250205
DTEND;VALUE=DATE:20250206
DTSTAMP:20260424T165702
CREATED:20250131T010949Z
LAST-MODIFIED:20250131T010949Z
UID:5631-1738713600-1738799999@cornerpocketgames.com
SUMMARY:HOURS: 1PM-9PM
DESCRIPTION:Store Hours: 1 PM – 9 PM
URL:https://cornerpocketgames.com/event/hours-1pm-9pm/
LOCATION:Corner Pocket Games\, 201 Manitoba Ave\, Selkirk\, Manitona\, R1A 0Y4\, Canada
END:VEVENT
BEGIN:VEVENT
DTSTART;VALUE=DATE:20250203
DTEND;VALUE=DATE:20250205
DTSTAMP:20260424T165702
CREATED:20250130T184448Z
LAST-MODIFIED:20250130T184448Z
UID:5568-1738540800-1738713599@cornerpocketgames.com
SUMMARY:Closed
DESCRIPTION:
URL:https://cornerpocketgames.com/event/closed-2/
END:VEVENT
BEGIN:VEVENT
DTSTART;VALUE=DATE:20250202
DTEND;VALUE=DATE:20250203
DTSTAMP:20260424T165702
CREATED:20250130T230556Z
LAST-MODIFIED:20250130T230556Z
UID:5611-1738454400-1738540799@cornerpocketgames.com
SUMMARY:HOURS: 12P-4P
DESCRIPTION:Store Hours: 12 (Noon) – 4P
URL:https://cornerpocketgames.com/event/hours-12p-4p/
ORGANIZER;CN="Corner Pocket Games":MAILTO:sales@cornerpocketgames.com
END:VEVENT
BEGIN:VEVENT
DTSTART;VALUE=DATE:20250201
DTEND;VALUE=DATE:20250202
DTSTAMP:20260424T165702
CREATED:20250130T230006Z
LAST-MODIFIED:20250130T230006Z
UID:5597-1738368000-1738454399@cornerpocketgames.com
SUMMARY:HOURS: 10A-4P
DESCRIPTION:Store Hours: 10AM – 4PM
URL:https://cornerpocketgames.com/event/hours-10a-4p/
ORGANIZER;CN="Corner Pocket Games":MAILTO:sales@cornerpocketgames.com
END:VEVENT
BEGIN:VEVENT
DTSTART;VALUE=DATE:20250201
DTEND;VALUE=DATE:20250202
DTSTAMP:20260424T165702
CREATED:20250130T182825Z
LAST-MODIFIED:20250201T015640Z
UID:5558-1738368000-1738454399@cornerpocketgames.com
SUMMARY:Pool $12/Hour
DESCRIPTION:Pool $12/Hour
URL:https://cornerpocketgames.com/event/pool-tournament-feb-1-2025/
LOCATION:Corner Pocket Games\, 201 Manitoba Ave\, Selkirk\, Manitona\, R1A 0Y4\, Canada
ATTACH;FMTTYPE=image/jpeg:https://cornerpocketgames.com/wp-content/uploads/2025/01/pool-tourney.jpg
ORGANIZER;CN="Corner Pocket Games":MAILTO:sales@cornerpocketgames.com
END:VEVENT
END:VCALENDAR