BEGIN:VCALENDAR
VERSION:2.0
PRODID:-//Corner Pocket Games - ECPv6.15.20//NONSGML v1.0//EN
CALSCALE:GREGORIAN
METHOD:PUBLISH
X-ORIGINAL-URL:https://cornerpocketgames.com
X-WR-CALDESC:Events for Corner Pocket Games
REFRESH-INTERVAL;VALUE=DURATION:PT1H
X-Robots-Tag:noindex
X-PUBLISHED-TTL:PT1H
BEGIN:VTIMEZONE
TZID:America/Winnipeg
BEGIN:DAYLIGHT
TZOFFSETFROM:-0600
TZOFFSETTO:-0500
TZNAME:CDT
DTSTART:20240310T080000
END:DAYLIGHT
BEGIN:STANDARD
TZOFFSETFROM:-0500
TZOFFSETTO:-0600
TZNAME:CST
DTSTART:20241103T070000
END:STANDARD
BEGIN:DAYLIGHT
TZOFFSETFROM:-0600
TZOFFSETTO:-0500
TZNAME:CDT
DTSTART:20250309T080000
END:DAYLIGHT
BEGIN:STANDARD
TZOFFSETFROM:-0500
TZOFFSETTO:-0600
TZNAME:CST
DTSTART:20251102T070000
END:STANDARD
BEGIN:DAYLIGHT
TZOFFSETFROM:-0600
TZOFFSETTO:-0500
TZNAME:CDT
DTSTART:20260308T080000
END:DAYLIGHT
BEGIN:STANDARD
TZOFFSETFROM:-0500
TZOFFSETTO:-0600
TZNAME:CST
DTSTART:20261101T070000
END:STANDARD
BEGIN:DAYLIGHT
TZOFFSETFROM:-0600
TZOFFSETTO:-0500
TZNAME:CDT
DTSTART:20270314T080000
END:DAYLIGHT
BEGIN:STANDARD
TZOFFSETFROM:-0500
TZOFFSETTO:-0600
TZNAME:CST
DTSTART:20271107T070000
END:STANDARD
END:VTIMEZONE
BEGIN:VEVENT
DTSTART;TZID=America/Winnipeg:20260116T100000
DTEND;TZID=America/Winnipeg:20260116T170000
DTSTAMP:20260423T071026
CREATED:20260110T212631Z
LAST-MODIFIED:20260110T212631Z
UID:6482-1768557600-1768582800@cornerpocketgames.com
SUMMARY:HOURS: 10AM-5PM
DESCRIPTION:
URL:https://cornerpocketgames.com/event/hours-10am-5pm-14/
ATTACH;FMTTYPE=image/jpeg:https://cornerpocketgames.com/wp-content/uploads/2025/09/open.jpg
END:VEVENT
BEGIN:VEVENT
DTSTART;TZID=America/Winnipeg:20260115T110000
DTEND;TZID=America/Winnipeg:20260115T210000
DTSTAMP:20260423T071026
CREATED:20260110T211931Z
LAST-MODIFIED:20260110T211931Z
UID:6473-1768474800-1768510800@cornerpocketgames.com
SUMMARY:HOURS: 11AM-9PM
DESCRIPTION:
URL:https://cornerpocketgames.com/event/hours-11am-9pm-5/
ATTACH;FMTTYPE=image/jpeg:https://cornerpocketgames.com/wp-content/uploads/2025/09/open.jpg
END:VEVENT
BEGIN:VEVENT
DTSTART;TZID=America/Winnipeg:20260114T100000
DTEND;TZID=America/Winnipeg:20260114T170000
DTSTAMP:20260423T071026
CREATED:20260110T211650Z
LAST-MODIFIED:20260110T211650Z
UID:6464-1768384800-1768410000@cornerpocketgames.com
SUMMARY:HOURS: 10AM-5PM
DESCRIPTION:HOURS: 10AM-5PM
URL:https://cornerpocketgames.com/event/hours-10am-5pm-11/
ATTACH;FMTTYPE=image/jpeg:https://cornerpocketgames.com/wp-content/uploads/2025/09/open.jpg
END:VEVENT
BEGIN:VEVENT
DTSTART;VALUE=DATE:20260111
DTEND;VALUE=DATE:20260114
DTSTAMP:20260423T071026
CREATED:20260110T211232Z
LAST-MODIFIED:20260110T211232Z
UID:6454-1768089600-1768348799@cornerpocketgames.com
SUMMARY:CLOSED
DESCRIPTION:CLOSED
URL:https://cornerpocketgames.com/event/closed-19/
LOCATION:Corner Pocket Games\, 201 Manitoba Ave\, Selkirk\, Manitona\, R1A 0Y4\, Canada
ATTACH;FMTTYPE=image/webp:https://cornerpocketgames.com/wp-content/uploads/2025/07/closed.webp
END:VEVENT
BEGIN:VEVENT
DTSTART;VALUE=DATE:20251130
DTEND;VALUE=DATE:20251201
DTSTAMP:20260423T071026
CREATED:20251116T122326Z
LAST-MODIFIED:20251116T122326Z
UID:6375-1764460800-1764547199@cornerpocketgames.com
SUMMARY:CLOSED
DESCRIPTION:
URL:https://cornerpocketgames.com/event/closed-18/
END:VEVENT
BEGIN:VEVENT
DTSTART;VALUE=DATE:20251129
DTEND;VALUE=DATE:20251130
DTSTAMP:20260423T071026
CREATED:20251116T123816Z
LAST-MODIFIED:20251116T123816Z
UID:6441-1764374400-1764460799@cornerpocketgames.com
SUMMARY:SCOTCH DOUBLES POOL TOURNAMENT
DESCRIPTION:
URL:https://cornerpocketgames.com/event/scotch-doubles-pool-tournament/
ATTACH;FMTTYPE=image/jpeg:https://cornerpocketgames.com/wp-content/uploads/2025/01/pool-tourney.jpg
END:VEVENT
BEGIN:VEVENT
DTSTART;VALUE=DATE:20251129
DTEND;VALUE=DATE:20251130
DTSTAMP:20260423T071026
CREATED:20251116T123740Z
LAST-MODIFIED:20251116T123740Z
UID:6438-1764374400-1764460799@cornerpocketgames.com
SUMMARY:HOURS 10AM-4PM
DESCRIPTION:
URL:https://cornerpocketgames.com/event/hours-10am-4pm-13/
ATTACH;FMTTYPE=image/jpeg:https://cornerpocketgames.com/wp-content/uploads/2025/09/open.jpg
END:VEVENT
BEGIN:VEVENT
DTSTART;VALUE=DATE:20251128
DTEND;VALUE=DATE:20251129
DTSTAMP:20260423T071026
CREATED:20251116T123458Z
LAST-MODIFIED:20251116T123458Z
UID:6423-1764288000-1764374399@cornerpocketgames.com
SUMMARY:HOURS 10AM-5PM
DESCRIPTION:
URL:https://cornerpocketgames.com/event/hours-10am-5pm-10/
ATTACH;FMTTYPE=image/jpeg:https://cornerpocketgames.com/wp-content/uploads/2025/09/open.jpg
END:VEVENT
BEGIN:VEVENT
DTSTART;TZID=America/Winnipeg:20251127T180000
DTEND;TZID=America/Winnipeg:20251127T220000
DTSTAMP:20260423T071026
CREATED:20251116T123213Z
LAST-MODIFIED:20251116T123242Z
UID:6411-1764266400-1764280800@cornerpocketgames.com
SUMMARY:POOL LEAGUE
DESCRIPTION:
URL:https://cornerpocketgames.com/event/pool-league-4/
ATTACH;FMTTYPE=image/jpeg:https://cornerpocketgames.com/wp-content/uploads/2025/01/pool-tourney.jpg
END:VEVENT
BEGIN:VEVENT
DTSTART;VALUE=DATE:20251127
DTEND;VALUE=DATE:20251128
DTSTAMP:20260423T071026
CREATED:20251116T123122Z
LAST-MODIFIED:20251116T123122Z
UID:6408-1764201600-1764287999@cornerpocketgames.com
SUMMARY:HOURS 11AM-9PM
DESCRIPTION:
URL:https://cornerpocketgames.com/event/hours-11am-9pm-4/
ATTACH;FMTTYPE=image/jpeg:https://cornerpocketgames.com/wp-content/uploads/2025/09/open.jpg
END:VEVENT
BEGIN:VEVENT
DTSTART;VALUE=DATE:20251126
DTEND;VALUE=DATE:20251127
DTSTAMP:20260423T071026
CREATED:20251116T122601Z
LAST-MODIFIED:20251116T122601Z
UID:6387-1764115200-1764201599@cornerpocketgames.com
SUMMARY:HOURS 10AM-5PM
DESCRIPTION:
URL:https://cornerpocketgames.com/event/hours-10am-5pm-6/
ATTACH;FMTTYPE=image/jpeg:https://cornerpocketgames.com/wp-content/uploads/2025/09/open.jpg
END:VEVENT
BEGIN:VEVENT
DTSTART;VALUE=DATE:20251123
DTEND;VALUE=DATE:20251126
DTSTAMP:20260423T071026
CREATED:20251116T122303Z
LAST-MODIFIED:20251116T122303Z
UID:6372-1763856000-1764115199@cornerpocketgames.com
SUMMARY:CLOSED
DESCRIPTION:
URL:https://cornerpocketgames.com/event/closed-17/
ATTACH;FMTTYPE=image/webp:https://cornerpocketgames.com/wp-content/uploads/2025/07/closed.webp
END:VEVENT
BEGIN:VEVENT
DTSTART;VALUE=DATE:20251122
DTEND;VALUE=DATE:20251123
DTSTAMP:20260423T071026
CREATED:20251116T123715Z
LAST-MODIFIED:20251116T123715Z
UID:6435-1763769600-1763855999@cornerpocketgames.com
SUMMARY:HOURS 10AM-4PM
DESCRIPTION:
URL:https://cornerpocketgames.com/event/hours-10am-4pm-12/
ATTACH;FMTTYPE=image/jpeg:https://cornerpocketgames.com/wp-content/uploads/2025/09/open.jpg
END:VEVENT
BEGIN:VEVENT
DTSTART;VALUE=DATE:20251121
DTEND;VALUE=DATE:20251122
DTSTAMP:20260423T071026
CREATED:20251116T123433Z
LAST-MODIFIED:20251116T123433Z
UID:6420-1763683200-1763769599@cornerpocketgames.com
SUMMARY:HOURS 10AM-5PM
DESCRIPTION:
URL:https://cornerpocketgames.com/event/hours-10am-5pm-9/
ATTACH;FMTTYPE=image/jpeg:https://cornerpocketgames.com/wp-content/uploads/2025/09/open.jpg
END:VEVENT
BEGIN:VEVENT
DTSTART;TZID=America/Winnipeg:20251120T180000
DTEND;TZID=America/Winnipeg:20251120T220000
DTSTAMP:20260423T071026
CREATED:20251116T123019Z
LAST-MODIFIED:20251116T123019Z
UID:6405-1763661600-1763676000@cornerpocketgames.com
SUMMARY:POOL LEAGUE
DESCRIPTION:
URL:https://cornerpocketgames.com/event/pool-league-3/
ATTACH;FMTTYPE=image/jpeg:https://cornerpocketgames.com/wp-content/uploads/2025/01/pool-tourney.jpg
END:VEVENT
BEGIN:VEVENT
DTSTART;VALUE=DATE:20251120
DTEND;VALUE=DATE:20251121
DTSTAMP:20260423T071026
CREATED:20251116T122942Z
LAST-MODIFIED:20251116T122942Z
UID:6402-1763596800-1763683199@cornerpocketgames.com
SUMMARY:HOURS 11AM-9PM
DESCRIPTION:
URL:https://cornerpocketgames.com/event/hours-11am-9pm-3/
ATTACH;FMTTYPE=image/jpeg:https://cornerpocketgames.com/wp-content/uploads/2025/09/open.jpg
END:VEVENT
BEGIN:VEVENT
DTSTART;VALUE=DATE:20251119
DTEND;VALUE=DATE:20251120
DTSTAMP:20260423T071026
CREATED:20251116T122536Z
LAST-MODIFIED:20251116T122536Z
UID:6384-1763510400-1763596799@cornerpocketgames.com
SUMMARY:HOURS 10AM-5PM
DESCRIPTION:
URL:https://cornerpocketgames.com/event/hours-10am-5pm-5/
END:VEVENT
BEGIN:VEVENT
DTSTART;VALUE=DATE:20251116
DTEND;VALUE=DATE:20251119
DTSTAMP:20260423T071026
CREATED:20251116T122231Z
LAST-MODIFIED:20251116T122231Z
UID:6369-1763251200-1763510399@cornerpocketgames.com
SUMMARY:CLOSED
DESCRIPTION:
URL:https://cornerpocketgames.com/event/closed-16/
ATTACH;FMTTYPE=image/webp:https://cornerpocketgames.com/wp-content/uploads/2025/07/closed.webp
END:VEVENT
BEGIN:VEVENT
DTSTART;VALUE=DATE:20251115
DTEND;VALUE=DATE:20251116
DTSTAMP:20260423T071026
CREATED:20251116T123629Z
LAST-MODIFIED:20251116T123629Z
UID:6432-1763164800-1763251199@cornerpocketgames.com
SUMMARY:HOURS 10AM-4PM
DESCRIPTION:
URL:https://cornerpocketgames.com/event/hours-10am-4pm-11/
END:VEVENT
BEGIN:VEVENT
DTSTART;VALUE=DATE:20251114
DTEND;VALUE=DATE:20251115
DTSTAMP:20260423T071026
CREATED:20251116T123406Z
LAST-MODIFIED:20251116T123406Z
UID:6417-1763078400-1763164799@cornerpocketgames.com
SUMMARY:HOURS 10AM-5PM
DESCRIPTION:
URL:https://cornerpocketgames.com/event/hours-10am-5pm-8/
ATTACH;FMTTYPE=image/jpeg:https://cornerpocketgames.com/wp-content/uploads/2025/09/open.jpg
END:VEVENT
BEGIN:VEVENT
DTSTART;TZID=America/Winnipeg:20251113T180000
DTEND;TZID=America/Winnipeg:20251113T220000
DTSTAMP:20260423T071026
CREATED:20251116T122909Z
LAST-MODIFIED:20251116T122909Z
UID:6399-1763056800-1763071200@cornerpocketgames.com
SUMMARY:POOL LEAGUE
DESCRIPTION:
URL:https://cornerpocketgames.com/event/pool-league-2/
ATTACH;FMTTYPE=image/jpeg:https://cornerpocketgames.com/wp-content/uploads/2025/01/pool-tourney.jpg
END:VEVENT
BEGIN:VEVENT
DTSTART;VALUE=DATE:20251113
DTEND;VALUE=DATE:20251114
DTSTAMP:20260423T071026
CREATED:20251116T122821Z
LAST-MODIFIED:20251116T122821Z
UID:6396-1762992000-1763078399@cornerpocketgames.com
SUMMARY:HOURS 11AM-9PM
DESCRIPTION:
URL:https://cornerpocketgames.com/event/hours-11am-9pm-2/
ATTACH;FMTTYPE=image/jpeg:https://cornerpocketgames.com/wp-content/uploads/2025/09/open.jpg
END:VEVENT
BEGIN:VEVENT
DTSTART;VALUE=DATE:20251112
DTEND;VALUE=DATE:20251113
DTSTAMP:20260423T071026
CREATED:20251116T122507Z
LAST-MODIFIED:20251116T122507Z
UID:6381-1762905600-1762991999@cornerpocketgames.com
SUMMARY:HOURS 10AM-5PM
DESCRIPTION:
URL:https://cornerpocketgames.com/event/hours-10am-5pm-4/
ATTACH;FMTTYPE=image/jpeg:https://cornerpocketgames.com/wp-content/uploads/2025/09/open.jpg
END:VEVENT
BEGIN:VEVENT
DTSTART;VALUE=DATE:20251109
DTEND;VALUE=DATE:20251112
DTSTAMP:20260423T071026
CREATED:20251116T122144Z
LAST-MODIFIED:20251116T122144Z
UID:6366-1762646400-1762905599@cornerpocketgames.com
SUMMARY:CLOSED
DESCRIPTION:
URL:https://cornerpocketgames.com/event/closed-15/
ATTACH;FMTTYPE=image/webp:https://cornerpocketgames.com/wp-content/uploads/2025/07/closed.webp
END:VEVENT
BEGIN:VEVENT
DTSTART;VALUE=DATE:20251108
DTEND;VALUE=DATE:20251109
DTSTAMP:20260423T071026
CREATED:20251116T123601Z
LAST-MODIFIED:20251116T123601Z
UID:6429-1762560000-1762646399@cornerpocketgames.com
SUMMARY:HOURS 10AM-4PM
DESCRIPTION:
URL:https://cornerpocketgames.com/event/hours-10am-4pm-10/
ATTACH;FMTTYPE=image/jpeg:https://cornerpocketgames.com/wp-content/uploads/2025/09/open.jpg
END:VEVENT
BEGIN:VEVENT
DTSTART;VALUE=DATE:20251107
DTEND;VALUE=DATE:20251108
DTSTAMP:20260423T071026
CREATED:20251116T123342Z
LAST-MODIFIED:20251116T123342Z
UID:6414-1762473600-1762559999@cornerpocketgames.com
SUMMARY:HOURS 10AM-5PM
DESCRIPTION:
URL:https://cornerpocketgames.com/event/hours-10am-5pm-7/
ATTACH;FMTTYPE=image/jpeg:https://cornerpocketgames.com/wp-content/uploads/2025/09/open.jpg
END:VEVENT
BEGIN:VEVENT
DTSTART;TZID=America/Winnipeg:20251106T180000
DTEND;TZID=America/Winnipeg:20251106T220000
DTSTAMP:20260423T071026
CREATED:20251116T122731Z
LAST-MODIFIED:20251116T122731Z
UID:6393-1762452000-1762466400@cornerpocketgames.com
SUMMARY:POOL LEAGUE
DESCRIPTION:
URL:https://cornerpocketgames.com/event/pool-league/
ATTACH;FMTTYPE=image/jpeg:https://cornerpocketgames.com/wp-content/uploads/2025/01/pool-tourney.jpg
END:VEVENT
BEGIN:VEVENT
DTSTART;VALUE=DATE:20251106
DTEND;VALUE=DATE:20251107
DTSTAMP:20260423T071026
CREATED:20251116T122650Z
LAST-MODIFIED:20251116T122650Z
UID:6390-1762387200-1762473599@cornerpocketgames.com
SUMMARY:HOURS 11AM-9PM
DESCRIPTION:
URL:https://cornerpocketgames.com/event/hours-11am-9pm/
ATTACH;FMTTYPE=image/jpeg:https://cornerpocketgames.com/wp-content/uploads/2025/09/open.jpg
END:VEVENT
BEGIN:VEVENT
DTSTART;VALUE=DATE:20251105
DTEND;VALUE=DATE:20251106
DTSTAMP:20260423T071026
CREATED:20251116T122440Z
LAST-MODIFIED:20251116T122440Z
UID:6378-1762300800-1762387199@cornerpocketgames.com
SUMMARY:HOURS 10AM-5PM
DESCRIPTION:
URL:https://cornerpocketgames.com/event/hours-10am-5pm-3/
ATTACH;FMTTYPE=image/jpeg:https://cornerpocketgames.com/wp-content/uploads/2025/09/open.jpg
END:VEVENT
BEGIN:VEVENT
DTSTART;VALUE=DATE:20251102
DTEND;VALUE=DATE:20251105
DTSTAMP:20260423T071026
CREATED:20251116T122110Z
LAST-MODIFIED:20251116T122110Z
UID:6363-1762041600-1762300799@cornerpocketgames.com
SUMMARY:CLOSED
DESCRIPTION:
URL:https://cornerpocketgames.com/event/closed-14/
LOCATION:Corner Pocket Games\, 201 Manitoba Ave\, Selkirk\, Manitona\, R1A 0Y4\, Canada
ATTACH;FMTTYPE=image/webp:https://cornerpocketgames.com/wp-content/uploads/2025/07/closed.webp
END:VEVENT
END:VCALENDAR