BEGIN:VCALENDAR
VERSION:2.0
PRODID:-//Corner Pocket Games - ECPv6.15.20//NONSGML v1.0//EN
CALSCALE:GREGORIAN
METHOD:PUBLISH
X-ORIGINAL-URL:https://cornerpocketgames.com
X-WR-CALDESC:Events for Corner Pocket Games
REFRESH-INTERVAL;VALUE=DURATION:PT1H
X-Robots-Tag:noindex
X-PUBLISHED-TTL:PT1H
BEGIN:VTIMEZONE
TZID:America/Winnipeg
BEGIN:DAYLIGHT
TZOFFSETFROM:-0600
TZOFFSETTO:-0500
TZNAME:CDT
DTSTART:20240310T080000
END:DAYLIGHT
BEGIN:STANDARD
TZOFFSETFROM:-0500
TZOFFSETTO:-0600
TZNAME:CST
DTSTART:20241103T070000
END:STANDARD
BEGIN:DAYLIGHT
TZOFFSETFROM:-0600
TZOFFSETTO:-0500
TZNAME:CDT
DTSTART:20250309T080000
END:DAYLIGHT
BEGIN:STANDARD
TZOFFSETFROM:-0500
TZOFFSETTO:-0600
TZNAME:CST
DTSTART:20251102T070000
END:STANDARD
BEGIN:DAYLIGHT
TZOFFSETFROM:-0600
TZOFFSETTO:-0500
TZNAME:CDT
DTSTART:20260308T080000
END:DAYLIGHT
BEGIN:STANDARD
TZOFFSETFROM:-0500
TZOFFSETTO:-0600
TZNAME:CST
DTSTART:20261101T070000
END:STANDARD
END:VTIMEZONE
BEGIN:VEVENT
DTSTART;VALUE=DATE:20250314
DTEND;VALUE=DATE:20250315
DTSTAMP:20260424T120650
CREATED:20250227T133230Z
LAST-MODIFIED:20250228T002151Z
UID:5696-1741910400-1741996799@cornerpocketgames.com
SUMMARY:Pool Tournament
DESCRIPTION:Pool Tournament\nLimit 12 Entries\nEntree Fee: $50/person\nStart Time: TDB\nRace to 3 A&B Side
URL:https://cornerpocketgames.com/event/pool-tournament-3/
ATTACH;FMTTYPE=image/jpeg:https://cornerpocketgames.com/wp-content/uploads/2025/01/pool-tourney.jpg
END:VEVENT
BEGIN:VEVENT
DTSTART;VALUE=DATE:20250313
DTEND;VALUE=DATE:20250314
DTSTAMP:20260424T120650
CREATED:20250227T140229Z
LAST-MODIFIED:20250227T140229Z
UID:5780-1741824000-1741910399@cornerpocketgames.com
SUMMARY:HOURS 10-6
DESCRIPTION:
URL:https://cornerpocketgames.com/event/hours-10-6-3/
END:VEVENT
BEGIN:VEVENT
DTSTART;VALUE=DATE:20250312
DTEND;VALUE=DATE:20250313
DTSTAMP:20260424T120650
CREATED:20250227T135502Z
LAST-MODIFIED:20250227T135502Z
UID:5765-1741737600-1741823999@cornerpocketgames.com
SUMMARY:HOURS 1-9
DESCRIPTION:
URL:https://cornerpocketgames.com/event/hours-1-9-2-2-2/
END:VEVENT
BEGIN:VEVENT
DTSTART;VALUE=DATE:20250312
DTEND;VALUE=DATE:20250313
DTSTAMP:20260424T120650
CREATED:20250227T132743Z
LAST-MODIFIED:20250227T132901Z
UID:5685-1741737600-1741823999@cornerpocketgames.com
SUMMARY:Half Price Board Game Time
DESCRIPTION:Half Price Board Game Time\n$5.00 / Person\nAll Day
URL:https://cornerpocketgames.com/event/half-prive-board-game-time/
ATTACH;FMTTYPE=image/jpeg:https://cornerpocketgames.com/wp-content/uploads/2024/09/board-games.jpg
ORGANIZER;CN="Corner Pocket Games":MAILTO:sales@cornerpocketgames.com
END:VEVENT
BEGIN:VEVENT
DTSTART;VALUE=DATE:20250310
DTEND;VALUE=DATE:20250312
DTSTAMP:20260424T120650
CREATED:20250227T134528Z
LAST-MODIFIED:20250227T134528Z
UID:5727-1741564800-1741737599@cornerpocketgames.com
SUMMARY:CLOSED
DESCRIPTION:
URL:https://cornerpocketgames.com/event/closed-4-2/
END:VEVENT
BEGIN:VEVENT
DTSTART;VALUE=DATE:20250309
DTEND;VALUE=DATE:20250310
DTSTAMP:20260424T120650
CREATED:20250227T134909Z
LAST-MODIFIED:20250227T134909Z
UID:5740-1741478400-1741564799@cornerpocketgames.com
SUMMARY:HOURS: 12P-4P
DESCRIPTION:Store Hours: 12 (Noon) – 4P
URL:https://cornerpocketgames.com/event/hours-12p-4p-2-2-2-2/
ORGANIZER;CN="Corner Pocket Games":MAILTO:sales@cornerpocketgames.com
END:VEVENT
BEGIN:VEVENT
DTSTART;VALUE=DATE:20250308
DTEND;VALUE=DATE:20250309
DTSTAMP:20260424T120650
CREATED:20250227T133526Z
LAST-MODIFIED:20250227T134226Z
UID:5702-1741392000-1741478399@cornerpocketgames.com
SUMMARY:HOURS 10-4
DESCRIPTION:
URL:https://cornerpocketgames.com/event/hours-10-4-2/
ATTACH;FMTTYPE=image/jpeg:https://cornerpocketgames.com/wp-content/uploads/2024/09/now-open-2.jpg
END:VEVENT
BEGIN:VEVENT
DTSTART;VALUE=DATE:20250307
DTEND;VALUE=DATE:20250308
DTSTAMP:20260424T120650
CREATED:20250227T132414Z
LAST-MODIFIED:20250228T002233Z
UID:5679-1741305600-1741391999@cornerpocketgames.com
SUMMARY:HOURS 11-5 **
DESCRIPTION:TODAY OPEN 11AM-5PM
URL:https://cornerpocketgames.com/event/special-hours/
ATTACH;FMTTYPE=image/jpeg:https://cornerpocketgames.com/wp-content/uploads/2024/09/now-open-2.jpg
END:VEVENT
BEGIN:VEVENT
DTSTART;VALUE=DATE:20250306
DTEND;VALUE=DATE:20250307
DTSTAMP:20260424T120650
CREATED:20250227T140305Z
LAST-MODIFIED:20250227T140305Z
UID:5783-1741219200-1741305599@cornerpocketgames.com
SUMMARY:HOURS 10-6
DESCRIPTION:
URL:https://cornerpocketgames.com/event/hours-10-6-4/
END:VEVENT
BEGIN:VEVENT
DTSTART;VALUE=DATE:20250305
DTEND;VALUE=DATE:20250306
DTSTAMP:20260424T120650
CREATED:20250227T135416Z
LAST-MODIFIED:20250227T135416Z
UID:5762-1741132800-1741219199@cornerpocketgames.com
SUMMARY:HOURS 1-9
DESCRIPTION:
URL:https://cornerpocketgames.com/event/hours-1-9-3/
END:VEVENT
BEGIN:VEVENT
DTSTART;VALUE=DATE:20250305
DTEND;VALUE=DATE:20250306
DTSTAMP:20260424T120650
CREATED:20250227T132307Z
LAST-MODIFIED:20250227T132307Z
UID:5676-1741132800-1741219199@cornerpocketgames.com
SUMMARY:Half Price Board Game Time
DESCRIPTION:Half Price Board Game Time\n$5.00 / Person All Day
URL:https://cornerpocketgames.com/event/half-price-board-game-time/
ATTACH;FMTTYPE=image/jpeg:https://cornerpocketgames.com/wp-content/uploads/2024/09/board-games.jpg
ORGANIZER;CN="Corner Pocket Games":MAILTO:sales@cornerpocketgames.com
END:VEVENT
BEGIN:VEVENT
DTSTART;VALUE=DATE:20250303
DTEND;VALUE=DATE:20250305
DTSTAMP:20260424T120650
CREATED:20250227T134453Z
LAST-MODIFIED:20250227T134453Z
UID:5724-1740960000-1741132799@cornerpocketgames.com
SUMMARY:CLOSED
DESCRIPTION:
URL:https://cornerpocketgames.com/event/closed-4/
END:VEVENT
BEGIN:VEVENT
DTSTART;TZID=America/Winnipeg:20250302T110000
DTEND;TZID=America/Winnipeg:20250302T190000
DTSTAMP:20260424T120650
CREATED:20250227T132113Z
LAST-MODIFIED:20250227T132113Z
UID:5673-1740913200-1740942000@cornerpocketgames.com
SUMMARY:Pool Tournament
DESCRIPTION:Pool Tournament\nStart Time: 11AM\n$25.00 Entry fee – Includes $5.00 Green Fee
URL:https://cornerpocketgames.com/event/pool-tournament/
ATTACH;FMTTYPE=image/jpeg:https://cornerpocketgames.com/wp-content/uploads/2025/01/pool-tourney.jpg
ORGANIZER;CN="Corner Pocket Games":MAILTO:sales@cornerpocketgames.com
END:VEVENT
BEGIN:VEVENT
DTSTART;VALUE=DATE:20250302
DTEND;VALUE=DATE:20250303
DTSTAMP:20260424T120650
CREATED:20250227T134834Z
LAST-MODIFIED:20250227T134834Z
UID:5737-1740873600-1740959999@cornerpocketgames.com
SUMMARY:HOURS: 12P-4P
DESCRIPTION:Store Hours: 12 (Noon) – 4P
URL:https://cornerpocketgames.com/event/hours-12p-4p-2-2-2/
ORGANIZER;CN="Corner Pocket Games":MAILTO:sales@cornerpocketgames.com
END:VEVENT
BEGIN:VEVENT
DTSTART;VALUE=DATE:20250301
DTEND;VALUE=DATE:20250302
DTSTAMP:20260424T120650
CREATED:20250227T133343Z
LAST-MODIFIED:20250227T134308Z
UID:5699-1740787200-1740873599@cornerpocketgames.com
SUMMARY:HOURS 10-4
DESCRIPTION:
URL:https://cornerpocketgames.com/event/hours-10-4/
ATTACH;FMTTYPE=image/jpeg:https://cornerpocketgames.com/wp-content/uploads/2024/09/now-open-2.jpg
END:VEVENT
BEGIN:VEVENT
DTSTART;VALUE=DATE:20250228
DTEND;VALUE=DATE:20250301
DTSTAMP:20260424T120650
CREATED:20250131T011351Z
LAST-MODIFIED:20250131T011351Z
UID:5646-1740700800-1740787199@cornerpocketgames.com
SUMMARY:HOURS: 1PM-9PM
DESCRIPTION:Store Hours: 1 PM – 9 PM
URL:https://cornerpocketgames.com/event/hours-1pm-9pm-2-2-2-2-2/
LOCATION:Corner Pocket Games\, 201 Manitoba Ave\, Selkirk\, Manitona\, R1A 0Y4\, Canada
END:VEVENT
BEGIN:VEVENT
DTSTART;VALUE=DATE:20250227
DTEND;VALUE=DATE:20250228
DTSTAMP:20260424T120650
CREATED:20250130T231034Z
LAST-MODIFIED:20250227T140706Z
UID:5628-1740614400-1740700799@cornerpocketgames.com
SUMMARY:HOURS: 10A-6P
DESCRIPTION:Store Hours: 10AM – 6PM
URL:https://cornerpocketgames.com/event/hours-10a-6p-2-2/
END:VEVENT
BEGIN:VEVENT
DTSTART;VALUE=DATE:20250226
DTEND;VALUE=DATE:20250227
DTSTAMP:20260424T120650
CREATED:20250131T011311Z
LAST-MODIFIED:20250131T011311Z
UID:5643-1740528000-1740614399@cornerpocketgames.com
SUMMARY:HOURS: 1PM-9PM
DESCRIPTION:Store Hours: 1 PM – 9 PM
URL:https://cornerpocketgames.com/event/hours-1pm-9pm-2-2-2-2/
LOCATION:Corner Pocket Games\, 201 Manitoba Ave\, Selkirk\, Manitona\, R1A 0Y4\, Canada
END:VEVENT
BEGIN:VEVENT
DTSTART;VALUE=DATE:20250224
DTEND;VALUE=DATE:20250226
DTSTAMP:20260424T120650
CREATED:20250130T184531Z
LAST-MODIFIED:20250130T184531Z
UID:5571-1740355200-1740527999@cornerpocketgames.com
SUMMARY:Closed
DESCRIPTION:
URL:https://cornerpocketgames.com/event/closed-3/
END:VEVENT
BEGIN:VEVENT
DTSTART;TZID=America/Winnipeg:20250223T120000
DTEND;TZID=America/Winnipeg:20250223T160000
DTSTAMP:20260424T120650
CREATED:20250130T215109Z
LAST-MODIFIED:20250130T220030Z
UID:5577-1740312000-1740326400@cornerpocketgames.com
SUMMARY:Cribbage Tournament Feb 23\, 2025
DESCRIPTION:Crib Tournament \nCall For Details \n 
URL:https://cornerpocketgames.com/event/cribbage-tournament-feb-23-2025/
CATEGORIES:Crib Tournament
ATTACH;FMTTYPE=image/jpeg:https://cornerpocketgames.com/wp-content/uploads/2025/01/crib-tournament.jpg
ORGANIZER;CN="Corner Pocket Games":MAILTO:sales@cornerpocketgames.com
END:VEVENT
BEGIN:VEVENT
DTSTART;VALUE=DATE:20250223
DTEND;VALUE=DATE:20250224
DTSTAMP:20260424T120650
CREATED:20250130T230737Z
LAST-MODIFIED:20250130T230737Z
UID:5617-1740268800-1740355199@cornerpocketgames.com
SUMMARY:HOURS: 12P-4P
DESCRIPTION:Store Hours: 12 (Noon) – 4P
URL:https://cornerpocketgames.com/event/hours-12p-4p-2-2/
ORGANIZER;CN="Corner Pocket Games":MAILTO:sales@cornerpocketgames.com
END:VEVENT
BEGIN:VEVENT
DTSTART;TZID=America/Winnipeg:20250222T110000
DTEND;TZID=America/Winnipeg:20250222T190000
DTSTAMP:20260424T120650
CREATED:20250130T214838Z
LAST-MODIFIED:20250130T221012Z
UID:5574-1740222000-1740250800@cornerpocketgames.com
SUMMARY:Pool Tournament Feb 22\, 2025
DESCRIPTION:Pool Tournament \nLimit 12 players \n$25 Entry Fee \nDouble Knockout \nStarts at 11AM \n 
URL:https://cornerpocketgames.com/event/pool-tournament-feb-22-2025/
CATEGORIES:Pool Tournament
ATTACH;FMTTYPE=image/jpeg:https://cornerpocketgames.com/wp-content/uploads/2025/01/pool-tourney.jpg
ORGANIZER;CN="Corner Pocket Games":MAILTO:sales@cornerpocketgames.com
END:VEVENT
BEGIN:VEVENT
DTSTART;VALUE=DATE:20250222
DTEND;VALUE=DATE:20250223
DTSTAMP:20260424T120650
CREATED:20250130T230316Z
LAST-MODIFIED:20250130T230316Z
UID:5607-1740182400-1740268799@cornerpocketgames.com
SUMMARY:HOURS: 10A-4P
DESCRIPTION:Store Hours: 10AM – 4PM
URL:https://cornerpocketgames.com/event/hours-10a-4p-4/
ORGANIZER;CN="Corner Pocket Games":MAILTO:sales@cornerpocketgames.com
END:VEVENT
BEGIN:VEVENT
DTSTART;VALUE=DATE:20250221
DTEND;VALUE=DATE:20250222
DTSTAMP:20260424T120650
CREATED:20250131T011230Z
LAST-MODIFIED:20250131T011230Z
UID:5640-1740096000-1740182399@cornerpocketgames.com
SUMMARY:HOURS: 1PM-9PM
DESCRIPTION:Store Hours: 1 PM – 9 PM
URL:https://cornerpocketgames.com/event/hours-1pm-9pm-2-2-2/
LOCATION:Corner Pocket Games\, 201 Manitoba Ave\, Selkirk\, Manitona\, R1A 0Y4\, Canada
END:VEVENT
BEGIN:VEVENT
DTSTART;VALUE=DATE:20250220
DTEND;VALUE=DATE:20250221
DTSTAMP:20260424T120650
CREATED:20250130T230947Z
LAST-MODIFIED:20250130T230947Z
UID:5625-1740009600-1740095999@cornerpocketgames.com
SUMMARY:HOURS: 10A-6P
DESCRIPTION:Store Hours: 10AM – 6PM
URL:https://cornerpocketgames.com/event/hours-10a-6p-2/
END:VEVENT
BEGIN:VEVENT
DTSTART;VALUE=DATE:20250219
DTEND;VALUE=DATE:20250222
DTSTAMP:20260424T120650
CREATED:20250131T011509Z
LAST-MODIFIED:20250131T011509Z
UID:5649-1739923200-1740182399@cornerpocketgames.com
SUMMARY:Board Games $10/Person for 3 Hours (copy)
DESCRIPTION:Board Games \nCome in and play some games with your friends. Rent a table for 3 hours for $10/person \n 
URL:https://cornerpocketgames.com/event/board-games-10-person-for-3-hours-2/
ATTACH;FMTTYPE=image/jpeg:https://cornerpocketgames.com/wp-content/uploads/2024/09/board-games.jpg
ORGANIZER;CN="Corner Pocket Games":MAILTO:sales@cornerpocketgames.com
END:VEVENT
BEGIN:VEVENT
DTSTART;VALUE=DATE:20250219
DTEND;VALUE=DATE:20250222
DTSTAMP:20260424T120650
CREATED:20250130T222836Z
LAST-MODIFIED:20250130T222836Z
UID:5594-1739923200-1740182399@cornerpocketgames.com
SUMMARY:Pool $12/Hour (copy)
DESCRIPTION:Pool table rental – $12/Hour \n 
URL:https://cornerpocketgames.com/event/pool-12-hour-2/
ATTACH;FMTTYPE=image/jpeg:https://cornerpocketgames.com/wp-content/uploads/2025/01/pool-tourney.jpg
END:VEVENT
BEGIN:VEVENT
DTSTART;VALUE=DATE:20250219
DTEND;VALUE=DATE:20250220
DTSTAMP:20260424T120650
CREATED:20250131T011118Z
LAST-MODIFIED:20250131T011118Z
UID:5637-1739923200-1740009599@cornerpocketgames.com
SUMMARY:HOURS: 1PM-9PM
DESCRIPTION:Store Hours: 1 PM – 9 PM
URL:https://cornerpocketgames.com/event/hours-1pm-9pm-2-2/
LOCATION:Corner Pocket Games\, 201 Manitoba Ave\, Selkirk\, Manitona\, R1A 0Y4\, Canada
END:VEVENT
BEGIN:VEVENT
DTSTART;VALUE=DATE:20250210
DTEND;VALUE=DATE:20250219
DTSTAMP:20260424T120650
CREATED:20250130T184409Z
LAST-MODIFIED:20250130T184409Z
UID:5565-1739145600-1739923199@cornerpocketgames.com
SUMMARY:CLOSED
DESCRIPTION:Store Closed
URL:https://cornerpocketgames.com/event/closed/
LOCATION:Corner Pocket Games\, 201 Manitoba Ave\, Selkirk\, Manitona\, R1A 0Y4\, Canada
END:VEVENT
BEGIN:VEVENT
DTSTART;TZID=America/Winnipeg:20250209T110000
DTEND;TZID=America/Winnipeg:20250209T190000
DTSTAMP:20260424T120650
CREATED:20250131T212856Z
LAST-MODIFIED:20250131T224727Z
UID:5658-1739098800-1739127600@cornerpocketgames.com
SUMMARY:Pool Tournament Feb 9 2025
DESCRIPTION:Pool Tournament \nLimit 12 players \n$25 Entry Fee \nDouble Knockout \nStarts at 11AM
URL:https://cornerpocketgames.com/event/pool-tournament-feb-9-2025/
CATEGORIES:Pool Tournament
ATTACH;FMTTYPE=image/jpeg:https://cornerpocketgames.com/wp-content/uploads/2025/01/pool-tourney.jpg
ORGANIZER;CN="Corner Pocket Games":MAILTO:sales@cornerpocketgames.com
END:VEVENT
END:VCALENDAR