BEGIN:VCALENDAR
VERSION:2.0
PRODID:-//Corner Pocket Games - ECPv6.15.20//NONSGML v1.0//EN
CALSCALE:GREGORIAN
METHOD:PUBLISH
X-WR-CALNAME:Corner Pocket Games
X-ORIGINAL-URL:https://cornerpocketgames.com
X-WR-CALDESC:Events for Corner Pocket Games
REFRESH-INTERVAL;VALUE=DURATION:PT1H
X-Robots-Tag:noindex
X-PUBLISHED-TTL:PT1H
BEGIN:VTIMEZONE
TZID:America/Winnipeg
BEGIN:DAYLIGHT
TZOFFSETFROM:-0600
TZOFFSETTO:-0500
TZNAME:CDT
DTSTART:20240310T080000
END:DAYLIGHT
BEGIN:STANDARD
TZOFFSETFROM:-0500
TZOFFSETTO:-0600
TZNAME:CST
DTSTART:20241103T070000
END:STANDARD
BEGIN:DAYLIGHT
TZOFFSETFROM:-0600
TZOFFSETTO:-0500
TZNAME:CDT
DTSTART:20250309T080000
END:DAYLIGHT
BEGIN:STANDARD
TZOFFSETFROM:-0500
TZOFFSETTO:-0600
TZNAME:CST
DTSTART:20251102T070000
END:STANDARD
BEGIN:DAYLIGHT
TZOFFSETFROM:-0600
TZOFFSETTO:-0500
TZNAME:CDT
DTSTART:20260308T080000
END:DAYLIGHT
BEGIN:STANDARD
TZOFFSETFROM:-0500
TZOFFSETTO:-0600
TZNAME:CST
DTSTART:20261101T070000
END:STANDARD
END:VTIMEZONE
BEGIN:VEVENT
DTSTART;VALUE=DATE:20250406
DTEND;VALUE=DATE:20250409
DTSTAMP:20260424T085103
CREATED:20250402T181142Z
LAST-MODIFIED:20250402T181142Z
UID:5822-1743897600-1744156799@cornerpocketgames.com
SUMMARY:CLOSED
DESCRIPTION:CLOSED
URL:https://cornerpocketgames.com/event/closed-5/
END:VEVENT
BEGIN:VEVENT
DTSTART;TZID=America/Winnipeg:20250405T100000
DTEND;TZID=America/Winnipeg:20250405T160000
DTSTAMP:20260424T085103
CREATED:20250402T181936Z
LAST-MODIFIED:20250402T181936Z
UID:5875-1743847200-1743868800@cornerpocketgames.com
SUMMARY:HOURS: 10AM-4PM
DESCRIPTION:
URL:https://cornerpocketgames.com/event/hours-10am-4pm/
END:VEVENT
BEGIN:VEVENT
DTSTART;VALUE=DATE:20250404
DTEND;VALUE=DATE:20250405
DTSTAMP:20260424T085103
CREATED:20250402T181911Z
LAST-MODIFIED:20250402T181911Z
UID:5872-1743724800-1743811199@cornerpocketgames.com
SUMMARY:CLOSED
DESCRIPTION:
URL:https://cornerpocketgames.com/event/closed-6/
END:VEVENT
BEGIN:VEVENT
DTSTART;TZID=America/Winnipeg:20250403T110000
DTEND;TZID=America/Winnipeg:20250403T180000
DTSTAMP:20260424T085103
CREATED:20250402T181442Z
LAST-MODIFIED:20250402T181442Z
UID:5839-1743678000-1743703200@cornerpocketgames.com
SUMMARY:Hours: 11AM-6PM
DESCRIPTION:
URL:https://cornerpocketgames.com/event/hours-11am-6pm-2/
END:VEVENT
BEGIN:VEVENT
DTSTART;TZID=America/Winnipeg:20250402T110000
DTEND;TZID=America/Winnipeg:20250402T180000
DTSTAMP:20260424T085103
CREATED:20250402T181409Z
LAST-MODIFIED:20250402T181409Z
UID:5836-1743591600-1743616800@cornerpocketgames.com
SUMMARY:Hours: 11AM-6PM
DESCRIPTION:
URL:https://cornerpocketgames.com/event/hours-11am-6pm/
END:VEVENT
BEGIN:VEVENT
DTSTART;VALUE=DATE:20250331
DTEND;VALUE=DATE:20250401
DTSTAMP:20260424T085103
CREATED:20250227T135203Z
LAST-MODIFIED:20250227T135203Z
UID:5753-1743379200-1743465599@cornerpocketgames.com
SUMMARY:CLOSED
DESCRIPTION:
URL:https://cornerpocketgames.com/event/closed-4-2-2-2/
END:VEVENT
BEGIN:VEVENT
DTSTART;VALUE=DATE:20250330
DTEND;VALUE=DATE:20250331
DTSTAMP:20260424T085103
CREATED:20250227T135128Z
LAST-MODIFIED:20250323T171021Z
UID:5750-1743292800-1743379199@cornerpocketgames.com
SUMMARY:CLOSED
DESCRIPTION:CLOSED
URL:https://cornerpocketgames.com/event/hours-12p-4p-2-2-2-2-3-2/
ORGANIZER;CN="Corner Pocket Games":MAILTO:sales@cornerpocketgames.com
END:VEVENT
BEGIN:VEVENT
DTSTART;VALUE=DATE:20250329
DTEND;VALUE=DATE:20250330
DTSTAMP:20260424T085103
CREATED:20250227T133713Z
LAST-MODIFIED:20250227T134133Z
UID:5711-1743206400-1743292799@cornerpocketgames.com
SUMMARY:HOURS 10-4
DESCRIPTION:
URL:https://cornerpocketgames.com/event/hours-10-4-2-2-2-2/
ATTACH;FMTTYPE=image/jpeg:https://cornerpocketgames.com/wp-content/uploads/2024/09/now-open-2.jpg
END:VEVENT
BEGIN:VEVENT
DTSTART;VALUE=DATE:20250328
DTEND;VALUE=DATE:20250329
DTSTAMP:20260424T085103
CREATED:20250227T135316Z
LAST-MODIFIED:20250316T183446Z
UID:5759-1743120000-1743206399@cornerpocketgames.com
SUMMARY:HOURS 11-6
DESCRIPTION:
URL:https://cornerpocketgames.com/event/hours-1-9-2-2/
END:VEVENT
BEGIN:VEVENT
DTSTART;VALUE=DATE:20250327
DTEND;VALUE=DATE:20250328
DTSTAMP:20260424T085103
CREATED:20250227T140041Z
LAST-MODIFIED:20250316T183520Z
UID:5774-1743033600-1743119999@cornerpocketgames.com
SUMMARY:HOURS 11-6
DESCRIPTION:
URL:https://cornerpocketgames.com/event/hours-10-6/
END:VEVENT
BEGIN:VEVENT
DTSTART;VALUE=DATE:20250326
DTEND;VALUE=DATE:20250327
DTSTAMP:20260424T085103
CREATED:20250227T135656Z
LAST-MODIFIED:20250316T183030Z
UID:5771-1742947200-1743033599@cornerpocketgames.com
SUMMARY:HOURS 11-6
DESCRIPTION:
URL:https://cornerpocketgames.com/event/hours-1-9-2-2-4/
END:VEVENT
BEGIN:VEVENT
DTSTART;VALUE=DATE:20250326
DTEND;VALUE=DATE:20250327
DTSTAMP:20260424T085103
CREATED:20250227T132934Z
LAST-MODIFIED:20250227T132934Z
UID:5693-1742947200-1743033599@cornerpocketgames.com
SUMMARY:Half Price Board Game Time
DESCRIPTION:Half Price Board Game Time\n$5.00 / Person\nAll Day
URL:https://cornerpocketgames.com/event/half-prive-board-game-time-2-2/
ATTACH;FMTTYPE=image/jpeg:https://cornerpocketgames.com/wp-content/uploads/2024/09/board-games.jpg
ORGANIZER;CN="Corner Pocket Games":MAILTO:sales@cornerpocketgames.com
END:VEVENT
BEGIN:VEVENT
DTSTART;VALUE=DATE:20250324
DTEND;VALUE=DATE:20250326
DTSTAMP:20260424T085103
CREATED:20250227T134604Z
LAST-MODIFIED:20250227T134622Z
UID:5730-1742774400-1742947199@cornerpocketgames.com
SUMMARY:CLOSED
DESCRIPTION:
URL:https://cornerpocketgames.com/event/closed-4-2-2/
END:VEVENT
BEGIN:VEVENT
DTSTART;VALUE=DATE:20250323
DTEND;VALUE=DATE:20250324
DTSTAMP:20260424T085103
CREATED:20250227T135046Z
LAST-MODIFIED:20250323T171144Z
UID:5744-1742688000-1742774399@cornerpocketgames.com
SUMMARY:CLOSED
DESCRIPTION:CLOSED
URL:https://cornerpocketgames.com/event/hours-12p-4p-2-2-2-2-3/
ORGANIZER;CN="Corner Pocket Games":MAILTO:sales@cornerpocketgames.com
END:VEVENT
BEGIN:VEVENT
DTSTART;VALUE=DATE:20250322
DTEND;VALUE=DATE:20250323
DTSTAMP:20260424T085103
CREATED:20250227T133640Z
LAST-MODIFIED:20250227T134156Z
UID:5708-1742601600-1742687999@cornerpocketgames.com
SUMMARY:HOURS 10-4
DESCRIPTION:
URL:https://cornerpocketgames.com/event/hours-10-4-2-2-2/
ATTACH;FMTTYPE=image/jpeg:https://cornerpocketgames.com/wp-content/uploads/2024/09/now-open-2.jpg
END:VEVENT
BEGIN:VEVENT
DTSTART;VALUE=DATE:20250321
DTEND;VALUE=DATE:20250322
DTSTAMP:20260424T085103
CREATED:20250227T135244Z
LAST-MODIFIED:20250316T183557Z
UID:5756-1742515200-1742601599@cornerpocketgames.com
SUMMARY:HOURS 11-6
DESCRIPTION:
URL:https://cornerpocketgames.com/event/hours-1-9-2/
END:VEVENT
BEGIN:VEVENT
DTSTART;VALUE=DATE:20250320
DTEND;VALUE=DATE:20250321
DTSTAMP:20260424T085103
CREATED:20250227T140157Z
LAST-MODIFIED:20250316T183708Z
UID:5777-1742428800-1742515199@cornerpocketgames.com
SUMMARY:HOURS 11-6
DESCRIPTION:
URL:https://cornerpocketgames.com/event/hours-10-6-2/
END:VEVENT
BEGIN:VEVENT
DTSTART;VALUE=DATE:20250319
DTEND;VALUE=DATE:20250320
DTSTAMP:20260424T085103
CREATED:20250227T135545Z
LAST-MODIFIED:20250316T183232Z
UID:5768-1742342400-1742428799@cornerpocketgames.com
SUMMARY:HOURS 11-6
DESCRIPTION:
URL:https://cornerpocketgames.com/event/hours-1-9-2-2-3/
END:VEVENT
BEGIN:VEVENT
DTSTART;VALUE=DATE:20250319
DTEND;VALUE=DATE:20250320
DTSTAMP:20260424T085103
CREATED:20250227T132833Z
LAST-MODIFIED:20250227T132833Z
UID:5688-1742342400-1742428799@cornerpocketgames.com
SUMMARY:Half Price Board Game Time
DESCRIPTION:Half Price Board Game Time\n$5.00 / Person\nAll Day
URL:https://cornerpocketgames.com/event/half-prive-board-game-time-2/
ATTACH;FMTTYPE=image/jpeg:https://cornerpocketgames.com/wp-content/uploads/2024/09/board-games.jpg
ORGANIZER;CN="Corner Pocket Games":MAILTO:sales@cornerpocketgames.com
END:VEVENT
BEGIN:VEVENT
DTSTART;VALUE=DATE:20250317
DTEND;VALUE=DATE:20250319
DTSTAMP:20260424T085103
CREATED:20250227T134709Z
LAST-MODIFIED:20250227T134709Z
UID:5734-1742169600-1742342399@cornerpocketgames.com
SUMMARY:CLOSED
DESCRIPTION:
URL:https://cornerpocketgames.com/event/closed-4-2-3/
END:VEVENT
BEGIN:VEVENT
DTSTART;TZID=America/Winnipeg:20250316T110000
DTEND;TZID=America/Winnipeg:20250316T190000
DTSTAMP:20260424T085103
CREATED:20250227T132549Z
LAST-MODIFIED:20250227T132549Z
UID:5682-1742122800-1742151600@cornerpocketgames.com
SUMMARY:Pool Tournament
DESCRIPTION:Pool Tournament\nStart Time: 11AM\n$25.00 / Person – Includes $5.00 Green Fee
URL:https://cornerpocketgames.com/event/pool-tournament-2/
ATTACH;FMTTYPE=image/jpeg:https://cornerpocketgames.com/wp-content/uploads/2025/01/pool-tourney.jpg
END:VEVENT
BEGIN:VEVENT
DTSTART;VALUE=DATE:20250316
DTEND;VALUE=DATE:20250317
DTSTAMP:20260424T085103
CREATED:20250227T134958Z
LAST-MODIFIED:20250227T134958Z
UID:5745-1742083200-1742169599@cornerpocketgames.com
SUMMARY:HOURS: 12P-4P
DESCRIPTION:Store Hours: 12 (Noon) – 4P
URL:https://cornerpocketgames.com/event/hours-12p-4p-2-2-2-2-2/
ORGANIZER;CN="Corner Pocket Games":MAILTO:sales@cornerpocketgames.com
END:VEVENT
BEGIN:VEVENT
DTSTART;VALUE=DATE:20250315
DTEND;VALUE=DATE:20250316
DTSTAMP:20260424T085103
CREATED:20250227T133559Z
LAST-MODIFIED:20250227T134052Z
UID:5705-1741996800-1742083199@cornerpocketgames.com
SUMMARY:HOURS 10-4
DESCRIPTION:
URL:https://cornerpocketgames.com/event/hours-10-4-2-2/
ATTACH;FMTTYPE=image/jpeg:https://cornerpocketgames.com/wp-content/uploads/2024/09/now-open-2.jpg
END:VEVENT
BEGIN:VEVENT
DTSTART;VALUE=DATE:20250314
DTEND;VALUE=DATE:20250315
DTSTAMP:20260424T085103
CREATED:20250227T134400Z
LAST-MODIFIED:20250227T134400Z
UID:5721-1741910400-1741996799@cornerpocketgames.com
SUMMARY:HOURS 1-9
DESCRIPTION:
URL:https://cornerpocketgames.com/event/hours-1-9/
END:VEVENT
BEGIN:VEVENT
DTSTART;VALUE=DATE:20250314
DTEND;VALUE=DATE:20250315
DTSTAMP:20260424T085103
CREATED:20250227T133230Z
LAST-MODIFIED:20250228T002151Z
UID:5696-1741910400-1741996799@cornerpocketgames.com
SUMMARY:Pool Tournament
DESCRIPTION:Pool Tournament\nLimit 12 Entries\nEntree Fee: $50/person\nStart Time: TDB\nRace to 3 A&B Side
URL:https://cornerpocketgames.com/event/pool-tournament-3/
ATTACH;FMTTYPE=image/jpeg:https://cornerpocketgames.com/wp-content/uploads/2025/01/pool-tourney.jpg
END:VEVENT
BEGIN:VEVENT
DTSTART;VALUE=DATE:20250313
DTEND;VALUE=DATE:20250314
DTSTAMP:20260424T085103
CREATED:20250227T140229Z
LAST-MODIFIED:20250227T140229Z
UID:5780-1741824000-1741910399@cornerpocketgames.com
SUMMARY:HOURS 10-6
DESCRIPTION:
URL:https://cornerpocketgames.com/event/hours-10-6-3/
END:VEVENT
BEGIN:VEVENT
DTSTART;VALUE=DATE:20250312
DTEND;VALUE=DATE:20250313
DTSTAMP:20260424T085103
CREATED:20250227T135502Z
LAST-MODIFIED:20250227T135502Z
UID:5765-1741737600-1741823999@cornerpocketgames.com
SUMMARY:HOURS 1-9
DESCRIPTION:
URL:https://cornerpocketgames.com/event/hours-1-9-2-2-2/
END:VEVENT
BEGIN:VEVENT
DTSTART;VALUE=DATE:20250312
DTEND;VALUE=DATE:20250313
DTSTAMP:20260424T085103
CREATED:20250227T132743Z
LAST-MODIFIED:20250227T132901Z
UID:5685-1741737600-1741823999@cornerpocketgames.com
SUMMARY:Half Price Board Game Time
DESCRIPTION:Half Price Board Game Time\n$5.00 / Person\nAll Day
URL:https://cornerpocketgames.com/event/half-prive-board-game-time/
ATTACH;FMTTYPE=image/jpeg:https://cornerpocketgames.com/wp-content/uploads/2024/09/board-games.jpg
ORGANIZER;CN="Corner Pocket Games":MAILTO:sales@cornerpocketgames.com
END:VEVENT
BEGIN:VEVENT
DTSTART;VALUE=DATE:20250310
DTEND;VALUE=DATE:20250312
DTSTAMP:20260424T085103
CREATED:20250227T134528Z
LAST-MODIFIED:20250227T134528Z
UID:5727-1741564800-1741737599@cornerpocketgames.com
SUMMARY:CLOSED
DESCRIPTION:
URL:https://cornerpocketgames.com/event/closed-4-2/
END:VEVENT
BEGIN:VEVENT
DTSTART;VALUE=DATE:20250309
DTEND;VALUE=DATE:20250310
DTSTAMP:20260424T085103
CREATED:20250227T134909Z
LAST-MODIFIED:20250227T134909Z
UID:5740-1741478400-1741564799@cornerpocketgames.com
SUMMARY:HOURS: 12P-4P
DESCRIPTION:Store Hours: 12 (Noon) – 4P
URL:https://cornerpocketgames.com/event/hours-12p-4p-2-2-2-2/
ORGANIZER;CN="Corner Pocket Games":MAILTO:sales@cornerpocketgames.com
END:VEVENT
END:VCALENDAR