BEGIN:VCALENDAR
VERSION:2.0
PRODID:-//Corner Pocket Games - ECPv6.15.20//NONSGML v1.0//EN
CALSCALE:GREGORIAN
METHOD:PUBLISH
X-WR-CALNAME:Corner Pocket Games
X-ORIGINAL-URL:https://cornerpocketgames.com
X-WR-CALDESC:Events for Corner Pocket Games
REFRESH-INTERVAL;VALUE=DURATION:PT1H
X-Robots-Tag:noindex
X-PUBLISHED-TTL:PT1H
BEGIN:VTIMEZONE
TZID:America/Winnipeg
BEGIN:DAYLIGHT
TZOFFSETFROM:-0600
TZOFFSETTO:-0500
TZNAME:CDT
DTSTART:20240310T080000
END:DAYLIGHT
BEGIN:STANDARD
TZOFFSETFROM:-0500
TZOFFSETTO:-0600
TZNAME:CST
DTSTART:20241103T070000
END:STANDARD
BEGIN:DAYLIGHT
TZOFFSETFROM:-0600
TZOFFSETTO:-0500
TZNAME:CDT
DTSTART:20250309T080000
END:DAYLIGHT
BEGIN:STANDARD
TZOFFSETFROM:-0500
TZOFFSETTO:-0600
TZNAME:CST
DTSTART:20251102T070000
END:STANDARD
BEGIN:DAYLIGHT
TZOFFSETFROM:-0600
TZOFFSETTO:-0500
TZNAME:CDT
DTSTART:20260308T080000
END:DAYLIGHT
BEGIN:STANDARD
TZOFFSETFROM:-0500
TZOFFSETTO:-0600
TZNAME:CST
DTSTART:20261101T070000
END:STANDARD
END:VTIMEZONE
BEGIN:VEVENT
DTSTART;TZID=America/Winnipeg:20250509T110000
DTEND;TZID=America/Winnipeg:20250509T180000
DTSTAMP:20260424T050358
CREATED:20250504T133941Z
LAST-MODIFIED:20250504T133941Z
UID:5905-1746788400-1746813600@cornerpocketgames.com
SUMMARY:HOURS 11AM-6PM
DESCRIPTION:
URL:https://cornerpocketgames.com/event/hours-11am-6pm-13/
END:VEVENT
BEGIN:VEVENT
DTSTART;VALUE=DATE:20250509
DTEND;VALUE=DATE:20250511
DTSTAMP:20260424T050358
CREATED:20250504T134131Z
LAST-MODIFIED:20250504T134131Z
UID:5911-1746748800-1746921599@cornerpocketgames.com
SUMMARY:TEAM POOL TOURNAMENT
DESCRIPTION:
URL:https://cornerpocketgames.com/event/team-pool-tournament/
END:VEVENT
BEGIN:VEVENT
DTSTART;TZID=America/Winnipeg:20250508T110000
DTEND;TZID=America/Winnipeg:20250508T180000
DTSTAMP:20260424T050358
CREATED:20250504T133855Z
LAST-MODIFIED:20250504T133855Z
UID:5902-1746702000-1746727200@cornerpocketgames.com
SUMMARY:HOURS 11AM-6PM
DESCRIPTION:
URL:https://cornerpocketgames.com/event/hours-11am-6pm-12/
END:VEVENT
BEGIN:VEVENT
DTSTART;TZID=America/Winnipeg:20250507T110000
DTEND;TZID=America/Winnipeg:20250507T180000
DTSTAMP:20260424T050358
CREATED:20250504T133816Z
LAST-MODIFIED:20250504T133816Z
UID:5899-1746615600-1746640800@cornerpocketgames.com
SUMMARY:HOURS 11AM-6PM
DESCRIPTION:
URL:https://cornerpocketgames.com/event/hours-11am-6pm-11/
END:VEVENT
BEGIN:VEVENT
DTSTART;VALUE=DATE:20250504
DTEND;VALUE=DATE:20250507
DTSTAMP:20260424T050358
CREATED:20250504T133434Z
LAST-MODIFIED:20250504T133434Z
UID:5893-1746316800-1746575999@cornerpocketgames.com
SUMMARY:CLOSED
DESCRIPTION:
URL:https://cornerpocketgames.com/event/closed-8/
END:VEVENT
BEGIN:VEVENT
DTSTART;TZID=America/Winnipeg:20250503T100000
DTEND;TZID=America/Winnipeg:20250503T160000
DTSTAMP:20260424T050358
CREATED:20250504T134629Z
LAST-MODIFIED:20250504T134629Z
UID:5932-1746266400-1746288000@cornerpocketgames.com
SUMMARY:HOURS 10AM-4PM
DESCRIPTION:
URL:https://cornerpocketgames.com/event/hours-10am-4pm-6/
END:VEVENT
BEGIN:VEVENT
DTSTART;TZID=America/Winnipeg:20250502T110000
DTEND;TZID=America/Winnipeg:20250502T180000
DTSTAMP:20260424T050358
CREATED:20250504T134604Z
LAST-MODIFIED:20250504T134604Z
UID:5929-1746183600-1746208800@cornerpocketgames.com
SUMMARY:HOURS 11AM-6PM
DESCRIPTION:
URL:https://cornerpocketgames.com/event/hours-11am-6pm-17/
END:VEVENT
BEGIN:VEVENT
DTSTART;TZID=America/Winnipeg:20250501T110000
DTEND;TZID=America/Winnipeg:20250501T180000
DTSTAMP:20260424T050358
CREATED:20250504T134533Z
LAST-MODIFIED:20250504T134533Z
UID:5926-1746097200-1746122400@cornerpocketgames.com
SUMMARY:HOURS 10AM-6PM
DESCRIPTION:
URL:https://cornerpocketgames.com/event/hours-10am-6pm/
END:VEVENT
BEGIN:VEVENT
DTSTART;VALUE=DATE:20250430
DTEND;VALUE=DATE:20250501
DTSTAMP:20260424T050358
CREATED:20250402T181845Z
LAST-MODIFIED:20250402T181845Z
UID:5869-1745971200-1746057599@cornerpocketgames.com
SUMMARY:CLOSED FOR INVENTORY
DESCRIPTION:
URL:https://cornerpocketgames.com/event/closed-for-inventory/
END:VEVENT
BEGIN:VEVENT
DTSTART;VALUE=DATE:20250427
DTEND;VALUE=DATE:20250430
DTSTAMP:20260424T050358
CREATED:20250402T181326Z
LAST-MODIFIED:20250402T181326Z
UID:5833-1745712000-1745971199@cornerpocketgames.com
SUMMARY:CLOSED
DESCRIPTION:CLOSED
URL:https://cornerpocketgames.com/event/closed-5-2-2-2/
END:VEVENT
BEGIN:VEVENT
DTSTART;TZID=America/Winnipeg:20250426T100000
DTEND;TZID=America/Winnipeg:20250426T160000
DTSTAMP:20260424T050358
CREATED:20250402T182024Z
LAST-MODIFIED:20250402T182024Z
UID:5884-1745661600-1745683200@cornerpocketgames.com
SUMMARY:HOURS: 10AM-4PM
DESCRIPTION:
URL:https://cornerpocketgames.com/event/hours-10am-4pm-4/
END:VEVENT
BEGIN:VEVENT
DTSTART;TZID=America/Winnipeg:20250425T110000
DTEND;TZID=America/Winnipeg:20250425T180000
DTSTAMP:20260424T050358
CREATED:20250402T181820Z
LAST-MODIFIED:20250402T181820Z
UID:5866-1745578800-1745604000@cornerpocketgames.com
SUMMARY:Hours: 11AM-6PM
DESCRIPTION:
URL:https://cornerpocketgames.com/event/hours-11am-6pm-10/
END:VEVENT
BEGIN:VEVENT
DTSTART;TZID=America/Winnipeg:20250424T110000
DTEND;TZID=America/Winnipeg:20250424T180000
DTSTAMP:20260424T050358
CREATED:20250402T181804Z
LAST-MODIFIED:20250402T181804Z
UID:5863-1745492400-1745517600@cornerpocketgames.com
SUMMARY:Hours: 11AM-6PM
DESCRIPTION:
URL:https://cornerpocketgames.com/event/hours-11am-6pm-9/
END:VEVENT
BEGIN:VEVENT
DTSTART;TZID=America/Winnipeg:20250423T110000
DTEND;TZID=America/Winnipeg:20250423T180000
DTSTAMP:20260424T050358
CREATED:20250402T181749Z
LAST-MODIFIED:20250402T181749Z
UID:5860-1745406000-1745431200@cornerpocketgames.com
SUMMARY:Hours: 11AM-6PM
DESCRIPTION:
URL:https://cornerpocketgames.com/event/hours-11am-6pm-8/
END:VEVENT
BEGIN:VEVENT
DTSTART;VALUE=DATE:20250420
DTEND;VALUE=DATE:20250423
DTSTAMP:20260424T050358
CREATED:20250402T181244Z
LAST-MODIFIED:20250402T181244Z
UID:5828-1745107200-1745366399@cornerpocketgames.com
SUMMARY:CLOSED
DESCRIPTION:CLOSED
URL:https://cornerpocketgames.com/event/closed-5-2-2/
END:VEVENT
BEGIN:VEVENT
DTSTART;TZID=America/Winnipeg:20250419T100000
DTEND;TZID=America/Winnipeg:20250419T160000
DTSTAMP:20260424T050358
CREATED:20250402T182010Z
LAST-MODIFIED:20250402T182010Z
UID:5881-1745056800-1745078400@cornerpocketgames.com
SUMMARY:HOURS: 10AM-4PM
DESCRIPTION:
URL:https://cornerpocketgames.com/event/hours-10am-4pm-3/
END:VEVENT
BEGIN:VEVENT
DTSTART;VALUE=DATE:20250418
DTEND;VALUE=DATE:20250419
DTSTAMP:20260424T050358
CREATED:20250402T181725Z
LAST-MODIFIED:20250402T181725Z
UID:5857-1744934400-1745020799@cornerpocketgames.com
SUMMARY:CLOSED: GOOD FRIDAY
DESCRIPTION:
URL:https://cornerpocketgames.com/event/closed-good-friday/
END:VEVENT
BEGIN:VEVENT
DTSTART;TZID=America/Winnipeg:20250417T110000
DTEND;TZID=America/Winnipeg:20250417T180000
DTSTAMP:20260424T050358
CREATED:20250402T181659Z
LAST-MODIFIED:20250402T181659Z
UID:5854-1744887600-1744912800@cornerpocketgames.com
SUMMARY:Hours: 11AM-6PM
DESCRIPTION:
URL:https://cornerpocketgames.com/event/hours-11am-6pm-7/
END:VEVENT
BEGIN:VEVENT
DTSTART;TZID=America/Winnipeg:20250416T110000
DTEND;TZID=America/Winnipeg:20250416T180000
DTSTAMP:20260424T050358
CREATED:20250402T181623Z
LAST-MODIFIED:20250402T181623Z
UID:5851-1744801200-1744826400@cornerpocketgames.com
SUMMARY:Hours: 11AM-6PM
DESCRIPTION:
URL:https://cornerpocketgames.com/event/hours-11am-6pm-6/
END:VEVENT
BEGIN:VEVENT
DTSTART;VALUE=DATE:20250413
DTEND;VALUE=DATE:20250416
DTSTAMP:20260424T050358
CREATED:20250402T181217Z
LAST-MODIFIED:20250402T181259Z
UID:5825-1744502400-1744761599@cornerpocketgames.com
SUMMARY:CLOSED
DESCRIPTION:CLOSED
URL:https://cornerpocketgames.com/event/closed-5-2/
END:VEVENT
BEGIN:VEVENT
DTSTART;TZID=America/Winnipeg:20250412T100000
DTEND;TZID=America/Winnipeg:20250412T160000
DTSTAMP:20260424T050358
CREATED:20250402T181955Z
LAST-MODIFIED:20250402T181955Z
UID:5878-1744452000-1744473600@cornerpocketgames.com
SUMMARY:HOURS: 10AM-4PM
DESCRIPTION:
URL:https://cornerpocketgames.com/event/hours-10am-4pm-2/
END:VEVENT
BEGIN:VEVENT
DTSTART;TZID=America/Winnipeg:20250411T110000
DTEND;TZID=America/Winnipeg:20250411T180000
DTSTAMP:20260424T050358
CREATED:20250402T181550Z
LAST-MODIFIED:20250402T181550Z
UID:5848-1744369200-1744394400@cornerpocketgames.com
SUMMARY:Hours: 11AM-6PM
DESCRIPTION:
URL:https://cornerpocketgames.com/event/hours-11am-6pm-5/
END:VEVENT
BEGIN:VEVENT
DTSTART;TZID=America/Winnipeg:20250410T110000
DTEND;TZID=America/Winnipeg:20250410T180000
DTSTAMP:20260424T050358
CREATED:20250402T181532Z
LAST-MODIFIED:20250402T181532Z
UID:5845-1744282800-1744308000@cornerpocketgames.com
SUMMARY:Hours: 11AM-6PM
DESCRIPTION:
URL:https://cornerpocketgames.com/event/hours-11am-6pm-4/
END:VEVENT
BEGIN:VEVENT
DTSTART;TZID=America/Winnipeg:20250409T110000
DTEND;TZID=America/Winnipeg:20250409T180000
DTSTAMP:20260424T050358
CREATED:20250402T181516Z
LAST-MODIFIED:20250402T181516Z
UID:5842-1744196400-1744221600@cornerpocketgames.com
SUMMARY:Hours: 11AM-6PM
DESCRIPTION:
URL:https://cornerpocketgames.com/event/hours-11am-6pm-3/
END:VEVENT
BEGIN:VEVENT
DTSTART;VALUE=DATE:20250406
DTEND;VALUE=DATE:20250409
DTSTAMP:20260424T050358
CREATED:20250402T181142Z
LAST-MODIFIED:20250402T181142Z
UID:5822-1743897600-1744156799@cornerpocketgames.com
SUMMARY:CLOSED
DESCRIPTION:CLOSED
URL:https://cornerpocketgames.com/event/closed-5/
END:VEVENT
BEGIN:VEVENT
DTSTART;TZID=America/Winnipeg:20250405T100000
DTEND;TZID=America/Winnipeg:20250405T160000
DTSTAMP:20260424T050358
CREATED:20250402T181936Z
LAST-MODIFIED:20250402T181936Z
UID:5875-1743847200-1743868800@cornerpocketgames.com
SUMMARY:HOURS: 10AM-4PM
DESCRIPTION:
URL:https://cornerpocketgames.com/event/hours-10am-4pm/
END:VEVENT
BEGIN:VEVENT
DTSTART;VALUE=DATE:20250404
DTEND;VALUE=DATE:20250405
DTSTAMP:20260424T050358
CREATED:20250402T181911Z
LAST-MODIFIED:20250402T181911Z
UID:5872-1743724800-1743811199@cornerpocketgames.com
SUMMARY:CLOSED
DESCRIPTION:
URL:https://cornerpocketgames.com/event/closed-6/
END:VEVENT
BEGIN:VEVENT
DTSTART;TZID=America/Winnipeg:20250403T110000
DTEND;TZID=America/Winnipeg:20250403T180000
DTSTAMP:20260424T050358
CREATED:20250402T181442Z
LAST-MODIFIED:20250402T181442Z
UID:5839-1743678000-1743703200@cornerpocketgames.com
SUMMARY:Hours: 11AM-6PM
DESCRIPTION:
URL:https://cornerpocketgames.com/event/hours-11am-6pm-2/
END:VEVENT
BEGIN:VEVENT
DTSTART;TZID=America/Winnipeg:20250402T110000
DTEND;TZID=America/Winnipeg:20250402T180000
DTSTAMP:20260424T050358
CREATED:20250402T181409Z
LAST-MODIFIED:20250402T181409Z
UID:5836-1743591600-1743616800@cornerpocketgames.com
SUMMARY:Hours: 11AM-6PM
DESCRIPTION:
URL:https://cornerpocketgames.com/event/hours-11am-6pm/
END:VEVENT
BEGIN:VEVENT
DTSTART;VALUE=DATE:20250331
DTEND;VALUE=DATE:20250401
DTSTAMP:20260424T050358
CREATED:20250227T135203Z
LAST-MODIFIED:20250227T135203Z
UID:5753-1743379200-1743465599@cornerpocketgames.com
SUMMARY:CLOSED
DESCRIPTION:
URL:https://cornerpocketgames.com/event/closed-4-2-2-2/
END:VEVENT
END:VCALENDAR