BEGIN:VCALENDAR
VERSION:2.0
PRODID:-//Corner Pocket Games - ECPv6.15.20//NONSGML v1.0//EN
CALSCALE:GREGORIAN
METHOD:PUBLISH
X-ORIGINAL-URL:https://cornerpocketgames.com
X-WR-CALDESC:Events for Corner Pocket Games
REFRESH-INTERVAL;VALUE=DURATION:PT1H
X-Robots-Tag:noindex
X-PUBLISHED-TTL:PT1H
BEGIN:VTIMEZONE
TZID:America/Winnipeg
BEGIN:DAYLIGHT
TZOFFSETFROM:-0600
TZOFFSETTO:-0500
TZNAME:CDT
DTSTART:20240310T080000
END:DAYLIGHT
BEGIN:STANDARD
TZOFFSETFROM:-0500
TZOFFSETTO:-0600
TZNAME:CST
DTSTART:20241103T070000
END:STANDARD
BEGIN:DAYLIGHT
TZOFFSETFROM:-0600
TZOFFSETTO:-0500
TZNAME:CDT
DTSTART:20250309T080000
END:DAYLIGHT
BEGIN:STANDARD
TZOFFSETFROM:-0500
TZOFFSETTO:-0600
TZNAME:CST
DTSTART:20251102T070000
END:STANDARD
BEGIN:DAYLIGHT
TZOFFSETFROM:-0600
TZOFFSETTO:-0500
TZNAME:CDT
DTSTART:20260308T080000
END:DAYLIGHT
BEGIN:STANDARD
TZOFFSETFROM:-0500
TZOFFSETTO:-0600
TZNAME:CST
DTSTART:20261101T070000
END:STANDARD
END:VTIMEZONE
BEGIN:VEVENT
DTSTART;TZID=America/Winnipeg:20250829T140000
DTEND;TZID=America/Winnipeg:20250829T170000
DTSTAMP:20260423T211549
CREATED:20250717T121448Z
LAST-MODIFIED:20250717T121448Z
UID:6089-1756476000-1756486800@cornerpocketgames.com
SUMMARY:Happy Hour 2pm-5pm
DESCRIPTION:Happy Hour\n2PM – 5PM
URL:https://cornerpocketgames.com/event/happy-hour-2pm-5pm-2-2-3-6-5-2-2-2-2-2-2-2-2-2-2-2-2/
ATTACH;FMTTYPE=image/jpeg:https://cornerpocketgames.com/wp-content/uploads/2025/07/happy-hour-beer-graphic.jpg
END:VEVENT
BEGIN:VEVENT
DTSTART;TZID=America/Winnipeg:20250828T140000
DTEND;TZID=America/Winnipeg:20250828T170000
DTSTAMP:20260423T211549
CREATED:20250717T121421Z
LAST-MODIFIED:20250717T121421Z
UID:6086-1756389600-1756400400@cornerpocketgames.com
SUMMARY:Happy Hour 2pm-5pm
DESCRIPTION:Happy Hour\n2PM – 5PM
URL:https://cornerpocketgames.com/event/happy-hour-2pm-5pm-2-2-3-6-5-2-2-2-2-2-2-2-2-2-2-2/
ATTACH;FMTTYPE=image/jpeg:https://cornerpocketgames.com/wp-content/uploads/2025/07/happy-hour-beer-graphic.jpg
END:VEVENT
BEGIN:VEVENT
DTSTART;TZID=America/Winnipeg:20250827T140000
DTEND;TZID=America/Winnipeg:20250827T170000
DTSTAMP:20260423T211549
CREATED:20250717T121405Z
LAST-MODIFIED:20250717T121405Z
UID:6083-1756303200-1756314000@cornerpocketgames.com
SUMMARY:Happy Hour 2pm-5pm
DESCRIPTION:Happy Hour\n2PM – 5PM
URL:https://cornerpocketgames.com/event/happy-hour-2pm-5pm-2-2-3-6-5-2-2-2-2-2-2-2-2-2-2/
ATTACH;FMTTYPE=image/jpeg:https://cornerpocketgames.com/wp-content/uploads/2025/07/happy-hour-beer-graphic.jpg
END:VEVENT
BEGIN:VEVENT
DTSTART;VALUE=DATE:20250827
DTEND;VALUE=DATE:20250828
DTSTAMP:20260423T211549
CREATED:20250717T121816Z
LAST-MODIFIED:20250717T121816Z
UID:6101-1756252800-1756339199@cornerpocketgames.com
SUMMARY:Play Games All Day $5/Person
DESCRIPTION:Play games all day\n$5.00 / Person
URL:https://cornerpocketgames.com/event/play-games-all-day-5-person-2-2-2-2-2-2-2-2/
LOCATION:Corner Pocket Games\, 201 Manitoba Ave\, Selkirk\, Manitona\, R1A 0Y4\, Canada
ATTACH;FMTTYPE=image/jpeg:https://cornerpocketgames.com/wp-content/uploads/2024/09/board-games.jpg
ORGANIZER;CN="Corner Pocket Games":MAILTO:sales@cornerpocketgames.com
END:VEVENT
BEGIN:VEVENT
DTSTART;VALUE=DATE:20250824
DTEND;VALUE=DATE:20250827
DTSTAMP:20260423T211549
CREATED:20250717T120436Z
LAST-MODIFIED:20250717T120436Z
UID:6047-1755993600-1756252799@cornerpocketgames.com
SUMMARY:CLOSED
DESCRIPTION:
URL:https://cornerpocketgames.com/event/closed20250725-4-2-2-2-2/
ATTACH;FMTTYPE=image/webp:https://cornerpocketgames.com/wp-content/uploads/2025/07/closed.webp
END:VEVENT
BEGIN:VEVENT
DTSTART;VALUE=DATE:20250823
DTEND;VALUE=DATE:20250824
DTSTAMP:20260423T211549
CREATED:20250717T122051Z
LAST-MODIFIED:20250717T122051Z
UID:6112-1755907200-1755993599@cornerpocketgames.com
SUMMARY:$10/Hour Pool
DESCRIPTION:$10/Hour Pool
URL:https://cornerpocketgames.com/event/10-hour-pool-2-2-2-2-2-2-2/
ATTACH;FMTTYPE=image/jpeg:https://cornerpocketgames.com/wp-content/uploads/2025/01/pool-tourney.jpg
END:VEVENT
BEGIN:VEVENT
DTSTART;TZID=America/Winnipeg:20250822T140000
DTEND;TZID=America/Winnipeg:20250822T170000
DTSTAMP:20260423T211549
CREATED:20250717T121323Z
LAST-MODIFIED:20250717T121323Z
UID:6080-1755871200-1755882000@cornerpocketgames.com
SUMMARY:Happy Hour 2pm-5pm
DESCRIPTION:Happy Hour\n2PM – 5PM
URL:https://cornerpocketgames.com/event/happy-hour-2pm-5pm-2-2-3-6-5-2-2-2-2-2-2-2-2-2/
ATTACH;FMTTYPE=image/jpeg:https://cornerpocketgames.com/wp-content/uploads/2025/07/happy-hour-beer-graphic.jpg
END:VEVENT
BEGIN:VEVENT
DTSTART;TZID=America/Winnipeg:20250821T140000
DTEND;TZID=America/Winnipeg:20250821T170000
DTSTAMP:20260423T211549
CREATED:20250717T121257Z
LAST-MODIFIED:20250717T121257Z
UID:6077-1755784800-1755795600@cornerpocketgames.com
SUMMARY:Happy Hour 2pm-5pm
DESCRIPTION:Happy Hour\n2PM – 5PM
URL:https://cornerpocketgames.com/event/happy-hour-2pm-5pm-2-2-3-6-5-2-2-2-2-2-2-2-2/
ATTACH;FMTTYPE=image/jpeg:https://cornerpocketgames.com/wp-content/uploads/2025/07/happy-hour-beer-graphic.jpg
END:VEVENT
BEGIN:VEVENT
DTSTART;TZID=America/Winnipeg:20250820T140000
DTEND;TZID=America/Winnipeg:20250820T170000
DTSTAMP:20260423T211549
CREATED:20250717T121218Z
LAST-MODIFIED:20250717T121218Z
UID:6074-1755698400-1755709200@cornerpocketgames.com
SUMMARY:Happy Hour 2pm-5pm
DESCRIPTION:Happy Hour\n2PM – 5PM
URL:https://cornerpocketgames.com/event/happy-hour-2pm-5pm-2-2-3-6-5-2-2-2-2-2-2-2/
ATTACH;FMTTYPE=image/jpeg:https://cornerpocketgames.com/wp-content/uploads/2025/07/happy-hour-beer-graphic.jpg
END:VEVENT
BEGIN:VEVENT
DTSTART;VALUE=DATE:20250820
DTEND;VALUE=DATE:20250821
DTSTAMP:20260423T211549
CREATED:20250717T121753Z
LAST-MODIFIED:20250717T121753Z
UID:6098-1755648000-1755734399@cornerpocketgames.com
SUMMARY:Play Games All Day $5/Person
DESCRIPTION:Play games all day\n$5.00 / Person
URL:https://cornerpocketgames.com/event/play-games-all-day-5-person-2-2-2-2-2-2-2/
LOCATION:Corner Pocket Games\, 201 Manitoba Ave\, Selkirk\, Manitona\, R1A 0Y4\, Canada
ATTACH;FMTTYPE=image/jpeg:https://cornerpocketgames.com/wp-content/uploads/2024/09/board-games.jpg
ORGANIZER;CN="Corner Pocket Games":MAILTO:sales@cornerpocketgames.com
END:VEVENT
BEGIN:VEVENT
DTSTART;VALUE=DATE:20250817
DTEND;VALUE=DATE:20250820
DTSTAMP:20260423T211549
CREATED:20250717T120414Z
LAST-MODIFIED:20250717T120414Z
UID:6044-1755388800-1755647999@cornerpocketgames.com
SUMMARY:CLOSED
DESCRIPTION:
URL:https://cornerpocketgames.com/event/closed20250725-4-2-2-2/
ATTACH;FMTTYPE=image/webp:https://cornerpocketgames.com/wp-content/uploads/2025/07/closed.webp
END:VEVENT
BEGIN:VEVENT
DTSTART;VALUE=DATE:20250816
DTEND;VALUE=DATE:20250817
DTSTAMP:20260423T211549
CREATED:20250717T122034Z
LAST-MODIFIED:20250717T122034Z
UID:6109-1755302400-1755388799@cornerpocketgames.com
SUMMARY:$10/Hour Pool
DESCRIPTION:$10/Hour Pool
URL:https://cornerpocketgames.com/event/10-hour-pool-2-2-2-2-2-2/
ATTACH;FMTTYPE=image/jpeg:https://cornerpocketgames.com/wp-content/uploads/2025/01/pool-tourney.jpg
END:VEVENT
BEGIN:VEVENT
DTSTART;TZID=America/Winnipeg:20250815T140000
DTEND;TZID=America/Winnipeg:20250815T170000
DTSTAMP:20260423T211549
CREATED:20250717T121143Z
LAST-MODIFIED:20250717T121143Z
UID:6071-1755266400-1755277200@cornerpocketgames.com
SUMMARY:Happy Hour 2pm-5pm
DESCRIPTION:Happy Hour\n2PM – 5PM
URL:https://cornerpocketgames.com/event/happy-hour-2pm-5pm-2-2-3-6-5-2-2-2-2-2-2/
ATTACH;FMTTYPE=image/jpeg:https://cornerpocketgames.com/wp-content/uploads/2025/07/happy-hour-beer-graphic.jpg
END:VEVENT
BEGIN:VEVENT
DTSTART;TZID=America/Winnipeg:20250814T140000
DTEND;TZID=America/Winnipeg:20250814T170000
DTSTAMP:20260423T211549
CREATED:20250717T121120Z
LAST-MODIFIED:20250717T121120Z
UID:6068-1755180000-1755190800@cornerpocketgames.com
SUMMARY:Happy Hour 2pm-5pm
DESCRIPTION:Happy Hour\n2PM – 5PM
URL:https://cornerpocketgames.com/event/happy-hour-2pm-5pm-2-2-3-6-5-2-2-2-2-2/
ATTACH;FMTTYPE=image/jpeg:https://cornerpocketgames.com/wp-content/uploads/2025/07/happy-hour-beer-graphic.jpg
END:VEVENT
BEGIN:VEVENT
DTSTART;TZID=America/Winnipeg:20250813T140000
DTEND;TZID=America/Winnipeg:20250813T170000
DTSTAMP:20260423T211549
CREATED:20250717T121059Z
LAST-MODIFIED:20250717T121059Z
UID:6065-1755093600-1755104400@cornerpocketgames.com
SUMMARY:Happy Hour 2pm-5pm
DESCRIPTION:Happy Hour\n2PM – 5PM
URL:https://cornerpocketgames.com/event/happy-hour-2pm-5pm-2-2-3-6-5-2-2-2-2/
ATTACH;FMTTYPE=image/jpeg:https://cornerpocketgames.com/wp-content/uploads/2025/07/happy-hour-beer-graphic.jpg
END:VEVENT
BEGIN:VEVENT
DTSTART;VALUE=DATE:20250813
DTEND;VALUE=DATE:20250814
DTSTAMP:20260423T211549
CREATED:20250717T121737Z
LAST-MODIFIED:20250717T121737Z
UID:6095-1755043200-1755129599@cornerpocketgames.com
SUMMARY:Play Games All Day $5/Person
DESCRIPTION:Play games all day\n$5.00 / Person
URL:https://cornerpocketgames.com/event/play-games-all-day-5-person-2-2-2-2-2-2/
LOCATION:Corner Pocket Games\, 201 Manitoba Ave\, Selkirk\, Manitona\, R1A 0Y4\, Canada
ATTACH;FMTTYPE=image/jpeg:https://cornerpocketgames.com/wp-content/uploads/2024/09/board-games.jpg
ORGANIZER;CN="Corner Pocket Games":MAILTO:sales@cornerpocketgames.com
END:VEVENT
BEGIN:VEVENT
DTSTART;VALUE=DATE:20250810
DTEND;VALUE=DATE:20250813
DTSTAMP:20260423T211549
CREATED:20250717T120313Z
LAST-MODIFIED:20250717T120350Z
UID:6041-1754784000-1755043199@cornerpocketgames.com
SUMMARY:CLOSED
DESCRIPTION:
URL:https://cornerpocketgames.com/event/closed20250725-4-2-2/
ATTACH;FMTTYPE=image/webp:https://cornerpocketgames.com/wp-content/uploads/2025/07/closed.webp
END:VEVENT
BEGIN:VEVENT
DTSTART;VALUE=DATE:20250809
DTEND;VALUE=DATE:20250810
DTSTAMP:20260423T211549
CREATED:20250717T122016Z
LAST-MODIFIED:20250717T122016Z
UID:6106-1754697600-1754783999@cornerpocketgames.com
SUMMARY:$10/Hour Pool
DESCRIPTION:$10/Hour Pool
URL:https://cornerpocketgames.com/event/10-hour-pool-2-2-2-2-2/
ATTACH;FMTTYPE=image/jpeg:https://cornerpocketgames.com/wp-content/uploads/2025/01/pool-tourney.jpg
END:VEVENT
BEGIN:VEVENT
DTSTART;TZID=America/Winnipeg:20250808T140000
DTEND;TZID=America/Winnipeg:20250808T170000
DTSTAMP:20260423T211549
CREATED:20250717T121037Z
LAST-MODIFIED:20250717T121037Z
UID:6062-1754661600-1754672400@cornerpocketgames.com
SUMMARY:Happy Hour 2pm-5pm
DESCRIPTION:Happy Hour\n2PM – 5PM
URL:https://cornerpocketgames.com/event/happy-hour-2pm-5pm-2-2-3-6-5-2-2-2/
ATTACH;FMTTYPE=image/jpeg:https://cornerpocketgames.com/wp-content/uploads/2025/07/happy-hour-beer-graphic.jpg
END:VEVENT
BEGIN:VEVENT
DTSTART;TZID=America/Winnipeg:20250807T140000
DTEND;TZID=America/Winnipeg:20250807T170000
DTSTAMP:20260423T211549
CREATED:20250717T121016Z
LAST-MODIFIED:20250717T121016Z
UID:6059-1754575200-1754586000@cornerpocketgames.com
SUMMARY:Happy Hour 2pm-5pm
DESCRIPTION:Happy Hour\n2PM – 5PM
URL:https://cornerpocketgames.com/event/happy-hour-2pm-5pm-2-2-3-6-5-2-2/
ATTACH;FMTTYPE=image/jpeg:https://cornerpocketgames.com/wp-content/uploads/2025/07/happy-hour-beer-graphic.jpg
END:VEVENT
BEGIN:VEVENT
DTSTART;TZID=America/Winnipeg:20250806T140000
DTEND;TZID=America/Winnipeg:20250806T170000
DTSTAMP:20260423T211549
CREATED:20250717T120953Z
LAST-MODIFIED:20250717T120953Z
UID:6056-1754488800-1754499600@cornerpocketgames.com
SUMMARY:Happy Hour 2pm-5pm
DESCRIPTION:Happy Hour\n2PM – 5PM
URL:https://cornerpocketgames.com/event/happy-hour-2pm-5pm-2-2-3-6-5-2/
ATTACH;FMTTYPE=image/jpeg:https://cornerpocketgames.com/wp-content/uploads/2025/07/happy-hour-beer-graphic.jpg
END:VEVENT
BEGIN:VEVENT
DTSTART;VALUE=DATE:20250806
DTEND;VALUE=DATE:20250807
DTSTAMP:20260423T211549
CREATED:20250717T121713Z
LAST-MODIFIED:20250717T121713Z
UID:6092-1754438400-1754524799@cornerpocketgames.com
SUMMARY:Play Games All Day $5/Person
DESCRIPTION:Play games all day\n$5.00 / Person
URL:https://cornerpocketgames.com/event/play-games-all-day-5-person-2-2-2-2-2/
LOCATION:Corner Pocket Games\, 201 Manitoba Ave\, Selkirk\, Manitona\, R1A 0Y4\, Canada
ATTACH;FMTTYPE=image/jpeg:https://cornerpocketgames.com/wp-content/uploads/2024/09/board-games.jpg
ORGANIZER;CN="Corner Pocket Games":MAILTO:sales@cornerpocketgames.com
END:VEVENT
BEGIN:VEVENT
DTSTART;VALUE=DATE:20250803
DTEND;VALUE=DATE:20250806
DTSTAMP:20260423T211549
CREATED:20250717T120239Z
LAST-MODIFIED:20250717T120239Z
UID:6037-1754179200-1754438399@cornerpocketgames.com
SUMMARY:CLOSED
DESCRIPTION:
URL:https://cornerpocketgames.com/event/closed20250725-4-2/
ATTACH;FMTTYPE=image/webp:https://cornerpocketgames.com/wp-content/uploads/2025/07/closed.webp
END:VEVENT
BEGIN:VEVENT
DTSTART;VALUE=DATE:20250802
DTEND;VALUE=DATE:20250803
DTSTAMP:20260423T211549
CREATED:20250717T121956Z
LAST-MODIFIED:20250717T121956Z
UID:6104-1754092800-1754179199@cornerpocketgames.com
SUMMARY:$10/Hour Pool
DESCRIPTION:$10/Hour Pool
URL:https://cornerpocketgames.com/event/10-hour-pool-2-2-2-2/
ATTACH;FMTTYPE=image/jpeg:https://cornerpocketgames.com/wp-content/uploads/2025/01/pool-tourney.jpg
END:VEVENT
BEGIN:VEVENT
DTSTART;TZID=America/Winnipeg:20250801T140000
DTEND;TZID=America/Winnipeg:20250801T170000
DTSTAMP:20260423T211549
CREATED:20250717T120750Z
LAST-MODIFIED:20250717T120750Z
UID:6053-1754056800-1754067600@cornerpocketgames.com
SUMMARY:Happy Hour 2pm-5pm
DESCRIPTION:Happy Hour\n2PM – 5PM
URL:https://cornerpocketgames.com/event/happy-hour-2pm-5pm-2-2-3-6-5/
ATTACH;FMTTYPE=image/jpeg:https://cornerpocketgames.com/wp-content/uploads/2025/07/happy-hour-beer-graphic.jpg
END:VEVENT
BEGIN:VEVENT
DTSTART;TZID=America/Winnipeg:20250731T140000
DTEND;TZID=America/Winnipeg:20250731T170000
DTSTAMP:20260423T211549
CREATED:20250707T094504Z
LAST-MODIFIED:20250707T094504Z
UID:5984-1753970400-1753981200@cornerpocketgames.com
SUMMARY:Happy Hour 2pm-5pm
DESCRIPTION:Happy Hour\n2PM – 5PM
URL:https://cornerpocketgames.com/event/happy-hour-2pm-5pm-2-2-3-6/
ATTACH;FMTTYPE=image/jpeg:https://cornerpocketgames.com/wp-content/uploads/2025/07/happy-hour-beer-graphic.jpg
END:VEVENT
BEGIN:VEVENT
DTSTART;TZID=America/Winnipeg:20250730T140000
DTEND;TZID=America/Winnipeg:20250730T170000
DTSTAMP:20260423T211549
CREATED:20250707T094226Z
LAST-MODIFIED:20250707T094226Z
UID:5969-1753884000-1753894800@cornerpocketgames.com
SUMMARY:Happy Hour 2pm-5pm
DESCRIPTION:Happy Hour\n2PM – 5PM
URL:https://cornerpocketgames.com/event/happy-hour-2pm-5pm-2-2-3/
ATTACH;FMTTYPE=image/jpeg:https://cornerpocketgames.com/wp-content/uploads/2025/07/happy-hour-beer-graphic.jpg
END:VEVENT
BEGIN:VEVENT
DTSTART;TZID=America/Winnipeg:20250730T110000
DTEND;TZID=America/Winnipeg:20250730T170000
DTSTAMP:20260423T211549
CREATED:20250707T093346Z
LAST-MODIFIED:20250707T093346Z
UID:5952-1753873200-1753894800@cornerpocketgames.com
SUMMARY:Play Games All Day $5/Person
DESCRIPTION:Play games all day\n$5.00 / Person
URL:https://cornerpocketgames.com/event/play-games-all-day-5-person-2-2-2-2/
LOCATION:Corner Pocket Games\, 201 Manitoba Ave\, Selkirk\, Manitona\, R1A 0Y4\, Canada
ORGANIZER;CN="Corner Pocket Games":MAILTO:sales@cornerpocketgames.com
END:VEVENT
BEGIN:VEVENT
DTSTART;VALUE=DATE:20250727
DTEND;VALUE=DATE:20250730
DTSTAMP:20260423T211549
CREATED:20250707T095718Z
LAST-MODIFIED:20250707T095718Z
UID:6026-1753574400-1753833599@cornerpocketgames.com
SUMMARY:CLOSED
DESCRIPTION:
URL:https://cornerpocketgames.com/event/closed20250725-4/
ATTACH;FMTTYPE=image/webp:https://cornerpocketgames.com/wp-content/uploads/2025/07/closed.webp
END:VEVENT
BEGIN:VEVENT
DTSTART;VALUE=DATE:20250726
DTEND;VALUE=DATE:20250727
DTSTAMP:20260423T211549
CREATED:20250707T095402Z
LAST-MODIFIED:20250707T095402Z
UID:6011-1753488000-1753574399@cornerpocketgames.com
SUMMARY:$10/Hour Pool
DESCRIPTION:$10/Hour Pool
URL:https://cornerpocketgames.com/event/10-hour-pool-2-2-2/
ATTACH;FMTTYPE=image/jpeg:https://cornerpocketgames.com/wp-content/uploads/2025/01/pool-tourney.jpg
END:VEVENT
END:VCALENDAR